BEGIN:VCALENDAR
VERSION:2.0
PRODID:-//Preston County Senior Citizens, Inc. - ECPv6.15.20//NONSGML v1.0//EN
CALSCALE:GREGORIAN
METHOD:PUBLISH
X-ORIGINAL-URL:https://prestonseniors.org
X-WR-CALDESC:Events for Preston County Senior Citizens, Inc.
REFRESH-INTERVAL;VALUE=DURATION:PT1H
X-Robots-Tag:noindex
X-PUBLISHED-TTL:PT1H
BEGIN:VTIMEZONE
TZID:UTC
BEGIN:STANDARD
TZOFFSETFROM:+0000
TZOFFSETTO:+0000
TZNAME:UTC
DTSTART:20200101T000000
END:STANDARD
END:VTIMEZONE
BEGIN:VEVENT
DTSTART;VALUE=DATE:20210707
DTEND;VALUE=DATE:20210708
DTSTAMP:20260423T233623
CREATED:20210630T123609Z
LAST-MODIFIED:20210630T123609Z
UID:1225-1625616000-1625702399@prestonseniors.org
SUMMARY:Lunch Menu
DESCRIPTION:SECOND SERVING\nKINGWOOD CENTER ONLY
URL:https://prestonseniors.org/event/lunch-menu-220/
CATEGORIES:Menu
END:VEVENT
BEGIN:VEVENT
DTSTART;VALUE=DATE:20210706
DTEND;VALUE=DATE:20210707
DTSTAMP:20260423T233623
CREATED:20210630T123526Z
LAST-MODIFIED:20210630T123526Z
UID:1223-1625529600-1625615999@prestonseniors.org
SUMMARY:Lunch Menu
DESCRIPTION:CHICKEN TENDERS\nMACARONI & CHEESE\nPEAS\nWHOLE WHEAT BREAD\nFRUIT\nNORTH PRESTON
URL:https://prestonseniors.org/event/lunch-menu-219/
CATEGORIES:Menu
END:VEVENT
BEGIN:VEVENT
DTSTART;VALUE=DATE:20210705
DTEND;VALUE=DATE:20210706
DTSTAMP:20260423T233623
CREATED:20210630T123444Z
LAST-MODIFIED:20210630T123444Z
UID:1221-1625443200-1625529599@prestonseniors.org
SUMMARY:Lunch Menu
DESCRIPTION:CLOSED\nINDEPENDENCE DAY
URL:https://prestonseniors.org/event/lunch-menu-218/
CATEGORIES:Menu
END:VEVENT
BEGIN:VEVENT
DTSTART;VALUE=DATE:20210702
DTEND;VALUE=DATE:20210703
DTSTAMP:20260423T233623
CREATED:20210630T123359Z
LAST-MODIFIED:20210630T123359Z
UID:1219-1625184000-1625270399@prestonseniors.org
SUMMARY:Lunch Menu
DESCRIPTION:BAKED FISH\nSTEWED TOMATOES\nDICED POTATOES\nWHOLE WHEAT BREAD\nCHOCOLATE PUDDING\nROWLESBURG
URL:https://prestonseniors.org/event/lunch-menu-217/
CATEGORIES:Menu
END:VEVENT
BEGIN:VEVENT
DTSTART;VALUE=DATE:20210701
DTEND;VALUE=DATE:20210702
DTSTAMP:20260423T233623
CREATED:20210630T122836Z
LAST-MODIFIED:20210630T122836Z
UID:1217-1625097600-1625183999@prestonseniors.org
SUMMARY:Lunch Menu
DESCRIPTION:HAMBURGER W/ BUN\nLETTUCE\, TOMATO\, PICKLE\nBAKED BEANS\nMACARONI SALAD\nCOOKIE
URL:https://prestonseniors.org/event/lunch-menu-216/
CATEGORIES:Menu
END:VEVENT
BEGIN:VEVENT
DTSTART;VALUE=DATE:20210630
DTEND;VALUE=DATE:20210701
DTSTAMP:20260423T233623
CREATED:20210518T144853Z
LAST-MODIFIED:20210518T144853Z
UID:1174-1625011200-1625097599@prestonseniors.org
SUMMARY:Lunch Menu
DESCRIPTION:SECOND SERVING\nKINGWOOD CENTER ONLY
URL:https://prestonseniors.org/event/lunch-menu-199/
CATEGORIES:Menu
END:VEVENT
BEGIN:VEVENT
DTSTART;VALUE=DATE:20210629
DTEND;VALUE=DATE:20210630
DTSTAMP:20260423T233624
CREATED:20210518T145849Z
LAST-MODIFIED:20210518T145849Z
UID:1206-1624924800-1625011199@prestonseniors.org
SUMMARY:Lunch Menu
DESCRIPTION:POLISH SAUSAGE ON BUN\nW/ GREEN & RED PEPPER STRIPS\n& MOZZARELLA CHEESE\nSAUERKRAUT\nFRUIT
URL:https://prestonseniors.org/event/lunch-menu-215/
CATEGORIES:Menu
END:VEVENT
BEGIN:VEVENT
DTSTART;VALUE=DATE:20210628
DTEND;VALUE=DATE:20210629
DTSTAMP:20260423T233624
CREATED:20210518T145802Z
LAST-MODIFIED:20210518T145802Z
UID:1204-1624838400-1624924799@prestonseniors.org
SUMMARY:Lunch Menu
DESCRIPTION:SWEDISH MEATBALLS\nSCALLOPED POTATOES\nBRUSSEL SPROUTS\nWHOLE WHEAT BREAD\nFRUIT
URL:https://prestonseniors.org/event/lunch-menu-214/
CATEGORIES:Menu
END:VEVENT
BEGIN:VEVENT
DTSTART;VALUE=DATE:20210625
DTEND;VALUE=DATE:20210626
DTSTAMP:20260423T233624
CREATED:20210518T145727Z
LAST-MODIFIED:20210518T145727Z
UID:1202-1624579200-1624665599@prestonseniors.org
SUMMARY:Lunch Menu
DESCRIPTION:GRILLED CHICKEN BREAST SANDWICH\nLETTUCE & TOMATO\nTOMATO SOUP
URL:https://prestonseniors.org/event/lunch-menu-213/
CATEGORIES:Menu
END:VEVENT
BEGIN:VEVENT
DTSTART;VALUE=DATE:20210624
DTEND;VALUE=DATE:20210625
DTSTAMP:20260423T233624
CREATED:20210518T145655Z
LAST-MODIFIED:20210518T145655Z
UID:1200-1624492800-1624579199@prestonseniors.org
SUMMARY:Lunch Menu
DESCRIPTION:LASAGNA\nSIDE SALAD\nITALIAN BREAD\nFRUIT
URL:https://prestonseniors.org/event/lunch-menu-212/
CATEGORIES:Menu
END:VEVENT
BEGIN:VEVENT
DTSTART;VALUE=DATE:20210623
DTEND;VALUE=DATE:20210624
DTSTAMP:20260423T233624
CREATED:20210518T144828Z
LAST-MODIFIED:20210518T144828Z
UID:1172-1624406400-1624492799@prestonseniors.org
SUMMARY:Lunch Menu
DESCRIPTION:SECOND SERVING\nKINGWOOD CENTER ONLY
URL:https://prestonseniors.org/event/lunch-menu-198/
CATEGORIES:Menu
END:VEVENT
BEGIN:VEVENT
DTSTART;VALUE=DATE:20210622
DTEND;VALUE=DATE:20210623
DTSTAMP:20260423T233624
CREATED:20210518T145631Z
LAST-MODIFIED:20210518T145631Z
UID:1198-1624320000-1624406399@prestonseniors.org
SUMMARY:Lunch Menu
DESCRIPTION:FATHER’S DAY LUNCHEON\nSTEAK W/ GRAVY\nMASHED POTATOES\nGREEN BEANS\nWHOLE WHEAT ROLL\nPIE
URL:https://prestonseniors.org/event/lunch-menu-211/
CATEGORIES:Menu
END:VEVENT
BEGIN:VEVENT
DTSTART;VALUE=DATE:20210621
DTEND;VALUE=DATE:20210622
DTSTAMP:20260423T233624
CREATED:20210518T145601Z
LAST-MODIFIED:20210518T145601Z
UID:1196-1624233600-1624319999@prestonseniors.org
SUMMARY:Lunch Menu
DESCRIPTION:Closed\nWest Virginia Day
URL:https://prestonseniors.org/event/lunch-menu-210/
CATEGORIES:Menu
END:VEVENT
BEGIN:VEVENT
DTSTART;VALUE=DATE:20210618
DTEND;VALUE=DATE:20210619
DTSTAMP:20260423T233624
CREATED:20210518T145529Z
LAST-MODIFIED:20210518T145529Z
UID:1194-1623974400-1624060799@prestonseniors.org
SUMMARY:Lunch Menu
DESCRIPTION:BBQ PORK\nRIB PATTY SANDWICH\nSIDE SALAD
URL:https://prestonseniors.org/event/lunch-menu-209/
CATEGORIES:Menu
END:VEVENT
BEGIN:VEVENT
DTSTART;VALUE=DATE:20210617
DTEND;VALUE=DATE:20210618
DTSTAMP:20260423T233624
CREATED:20210518T145457Z
LAST-MODIFIED:20210518T145457Z
UID:1192-1623888000-1623974399@prestonseniors.org
SUMMARY:Lunch Menu
DESCRIPTION:BEEF TAMALE PIE\nSPINACH\nBUTTERED POTATOES\nFRUIT
URL:https://prestonseniors.org/event/lunch-menu-208/
CATEGORIES:Menu
END:VEVENT
BEGIN:VEVENT
DTSTART;VALUE=DATE:20210616
DTEND;VALUE=DATE:20210617
DTSTAMP:20260423T233624
CREATED:20210518T144755Z
LAST-MODIFIED:20210518T144755Z
UID:1170-1623801600-1623887999@prestonseniors.org
SUMMARY:Lunch Menu
DESCRIPTION:SECOND SERVING\nKINGWOOD CENTER ONLY
URL:https://prestonseniors.org/event/lunch-menu-197/
CATEGORIES:Menu
END:VEVENT
BEGIN:VEVENT
DTSTART;VALUE=DATE:20210615
DTEND;VALUE=DATE:20210616
DTSTAMP:20260423T233624
CREATED:20210518T145419Z
LAST-MODIFIED:20210518T145419Z
UID:1190-1623715200-1623801599@prestonseniors.org
SUMMARY:Lunch Menu
DESCRIPTION:BBQ CHICKEN\nAU GRATIN POTATOES\nGREEN BEANS\nWHOLE WHEAT BREAD\nFRUIT
URL:https://prestonseniors.org/event/lunch-menu-207/
CATEGORIES:Menu
END:VEVENT
BEGIN:VEVENT
DTSTART;VALUE=DATE:20210614
DTEND;VALUE=DATE:20210615
DTSTAMP:20260423T233624
CREATED:20210518T145351Z
LAST-MODIFIED:20210518T145351Z
UID:1188-1623628800-1623715199@prestonseniors.org
SUMMARY:Lunch Menu
DESCRIPTION:TURKEY & CHEESE SANDWICH\nBAKED SWEET POTATOES\nBROCCOLI\nFRUIT
URL:https://prestonseniors.org/event/lunch-menu-206/
CATEGORIES:Menu
END:VEVENT
BEGIN:VEVENT
DTSTART;VALUE=DATE:20210611
DTEND;VALUE=DATE:20210612
DTSTAMP:20260423T233624
CREATED:20210518T145209Z
LAST-MODIFIED:20210518T145209Z
UID:1186-1623369600-1623455999@prestonseniors.org
SUMMARY:Lunch Menu
DESCRIPTION:FISH SANDWICH\nLETTUCE & TOMATO\nSTEWED TOMATOES\nBUTTERED POTATOES\nFRUIT
URL:https://prestonseniors.org/event/lunch-menu-205/
CATEGORIES:Menu
END:VEVENT
BEGIN:VEVENT
DTSTART;VALUE=DATE:20210610
DTEND;VALUE=DATE:20210611
DTSTAMP:20260423T233624
CREATED:20210518T145140Z
LAST-MODIFIED:20210518T145140Z
UID:1184-1623283200-1623369599@prestonseniors.org
SUMMARY:Lunch Menu
DESCRIPTION:CABBAGE ROLLS\nMASHED POTATOES\nCARROTS\nWHOLE WHEAT BREAD
URL:https://prestonseniors.org/event/lunch-menu-204/
CATEGORIES:Menu
END:VEVENT
BEGIN:VEVENT
DTSTART;VALUE=DATE:20210609
DTEND;VALUE=DATE:20210610
DTSTAMP:20260423T233624
CREATED:20210518T144735Z
LAST-MODIFIED:20210518T144735Z
UID:1168-1623196800-1623283199@prestonseniors.org
SUMMARY:Lunch Menu
DESCRIPTION:SECOND SERVING\nKINGWOOD CENTER ONLY
URL:https://prestonseniors.org/event/lunch-menu-196/
CATEGORIES:Menu
END:VEVENT
BEGIN:VEVENT
DTSTART;VALUE=DATE:20210608
DTEND;VALUE=DATE:20210609
DTSTAMP:20260423T233624
CREATED:20210518T145112Z
LAST-MODIFIED:20210518T145112Z
UID:1182-1623110400-1623196799@prestonseniors.org
SUMMARY:Lunch Menu
DESCRIPTION:SALISBURY STEAK\nMASHED POTATOES\nBROCCOLI\nWHOLE WHEAT BREAD
URL:https://prestonseniors.org/event/lunch-menu-203/
CATEGORIES:Menu
END:VEVENT
BEGIN:VEVENT
DTSTART;VALUE=DATE:20210607
DTEND;VALUE=DATE:20210608
DTSTAMP:20260423T233624
CREATED:20210518T145044Z
LAST-MODIFIED:20210518T145044Z
UID:1180-1623024000-1623110399@prestonseniors.org
SUMMARY:Lunch Menu
DESCRIPTION:FISH\nSTEWED TOMATOES\nBUTTERED POTATOES\nWHOLE WHEAT BREAD\nFRUIT
URL:https://prestonseniors.org/event/lunch-menu-202/
CATEGORIES:Menu
END:VEVENT
BEGIN:VEVENT
DTSTART;VALUE=DATE:20210604
DTEND;VALUE=DATE:20210605
DTSTAMP:20260423T233624
CREATED:20210518T144953Z
LAST-MODIFIED:20210518T144953Z
UID:1178-1622764800-1622851199@prestonseniors.org
SUMMARY:Lunch Menu
DESCRIPTION:HAM SALAD SANDWICH\nVEGETABLE BEEF SOUP\nCRACKERS\nCOTTAGE CHEESE\nFRUIT
URL:https://prestonseniors.org/event/lunch-menu-201/
CATEGORIES:Menu
END:VEVENT
BEGIN:VEVENT
DTSTART;VALUE=DATE:20210603
DTEND;VALUE=DATE:20210604
DTSTAMP:20260423T233624
CREATED:20210518T144921Z
LAST-MODIFIED:20210518T144921Z
UID:1176-1622678400-1622764799@prestonseniors.org
SUMMARY:Lunch Menu
DESCRIPTION:BEANS & HAM\nCORNBREAD\nSPINACH\nFRUIT
URL:https://prestonseniors.org/event/lunch-menu-200/
CATEGORIES:Menu
END:VEVENT
BEGIN:VEVENT
DTSTART;VALUE=DATE:20210602
DTEND;VALUE=DATE:20210603
DTSTAMP:20260423T233624
CREATED:20210518T144715Z
LAST-MODIFIED:20210518T144715Z
UID:1166-1622592000-1622678399@prestonseniors.org
SUMMARY:Lunch Menu
DESCRIPTION:SECOND SERVING\nKINGWOOD CENTER ONLY
URL:https://prestonseniors.org/event/lunch-menu-195/
CATEGORIES:Menu
END:VEVENT
BEGIN:VEVENT
DTSTART;VALUE=DATE:20210601
DTEND;VALUE=DATE:20210602
DTSTAMP:20260423T233624
CREATED:20210518T144626Z
LAST-MODIFIED:20210518T144626Z
UID:1164-1622505600-1622591999@prestonseniors.org
SUMMARY:Lunch Menu
DESCRIPTION:PORK CHOP\nSAUERKRAUT\nGREEN BEANS & CORN\nWHOLE WHEAT BREAD\nFRUIT
URL:https://prestonseniors.org/event/lunch-menu-194/
CATEGORIES:Menu
END:VEVENT
BEGIN:VEVENT
DTSTART;VALUE=DATE:20210531
DTEND;VALUE=DATE:20210601
DTSTAMP:20260423T233624
CREATED:20210505T174016Z
LAST-MODIFIED:20210505T174016Z
UID:1128-1622419200-1622505599@prestonseniors.org
SUMMARY:Lunch Menu
DESCRIPTION:Closed\nMemorial Day
URL:https://prestonseniors.org/event/lunch-menu-193/
CATEGORIES:Menu
END:VEVENT
BEGIN:VEVENT
DTSTART;VALUE=DATE:20210528
DTEND;VALUE=DATE:20210529
DTSTAMP:20260423T233624
CREATED:20210505T173951Z
LAST-MODIFIED:20210505T173951Z
UID:1126-1622160000-1622246399@prestonseniors.org
SUMMARY:Lunch Menu
DESCRIPTION:TUNA SALAD SANDWICH\nBREAST SANDWICH\nFRUIT
URL:https://prestonseniors.org/event/lunch-menu-192/
CATEGORIES:Menu
END:VEVENT
BEGIN:VEVENT
DTSTART;VALUE=DATE:20210527
DTEND;VALUE=DATE:20210528
DTSTAMP:20260423T233624
CREATED:20210505T173919Z
LAST-MODIFIED:20210505T173919Z
UID:1124-1622073600-1622159999@prestonseniors.org
SUMMARY:Lunch Menu
DESCRIPTION:HOBO BEANS\nCORNBREAD\nSPINACH\nWHOLE WHEAT BREAD\nFRUIT
URL:https://prestonseniors.org/event/lunch-menu-191/
CATEGORIES:Menu
END:VEVENT
END:VCALENDAR