BEGIN:VCALENDAR
VERSION:2.0
PRODID:-//Preston County Senior Citizens, Inc. - ECPv6.15.20//NONSGML v1.0//EN
CALSCALE:GREGORIAN
METHOD:PUBLISH
X-WR-CALNAME:Preston County Senior Citizens, Inc.
X-ORIGINAL-URL:https://prestonseniors.org
X-WR-CALDESC:Events for Preston County Senior Citizens, Inc.
REFRESH-INTERVAL;VALUE=DURATION:PT1H
X-Robots-Tag:noindex
X-PUBLISHED-TTL:PT1H
BEGIN:VTIMEZONE
TZID:UTC
BEGIN:STANDARD
TZOFFSETFROM:+0000
TZOFFSETTO:+0000
TZNAME:UTC
DTSTART:20200101T000000
END:STANDARD
END:VTIMEZONE
BEGIN:VEVENT
DTSTART;VALUE=DATE:20210811
DTEND;VALUE=DATE:20210812
DTSTAMP:20260423T162655
CREATED:20210630T125835Z
LAST-MODIFIED:20210630T125835Z
UID:1275-1628640000-1628726399@prestonseniors.org
SUMMARY:Lunch Menu
DESCRIPTION:SECOND SERVING\nKINGWOOD CENTER ONLY
URL:https://prestonseniors.org/event/lunch-menu-245/
CATEGORIES:Menu
END:VEVENT
BEGIN:VEVENT
DTSTART;VALUE=DATE:20210810
DTEND;VALUE=DATE:20210811
DTSTAMP:20260423T162655
CREATED:20210630T125807Z
LAST-MODIFIED:20210809T110616Z
UID:1273-1628553600-1628639999@prestonseniors.org
SUMMARY:Lunch Menu
DESCRIPTION:COUNTRY FRIED STEAK\nMASHED POTATOES\nSPINACH\nWHOLE WHEAT BREAD\nFRUIT\nTUNNELTON
URL:https://prestonseniors.org/event/lunch-menu-244/
CATEGORIES:Menu
END:VEVENT
BEGIN:VEVENT
DTSTART;VALUE=DATE:20210809
DTEND;VALUE=DATE:20210810
DTSTAMP:20260423T162655
CREATED:20210630T125708Z
LAST-MODIFIED:20210630T125708Z
UID:1271-1628467200-1628553599@prestonseniors.org
SUMMARY:Lunch Menu
DESCRIPTION:CHICKEN PARMESAN\nOVER NOODLES\nCOLESLAW\nWHOLE WHEAT BREAD\nAPPLESAUCE
URL:https://prestonseniors.org/event/lunch-menu-243/
CATEGORIES:Menu
END:VEVENT
BEGIN:VEVENT
DTSTART;VALUE=DATE:20210806
DTEND;VALUE=DATE:20210807
DTSTAMP:20260423T162655
CREATED:20210630T125630Z
LAST-MODIFIED:20210809T110539Z
UID:1269-1628208000-1628294399@prestonseniors.org
SUMMARY:Lunch Menu
DESCRIPTION:BEEF MACARONI\nCUCUMBER SALAD\nWHOLE WHEAT BREAD\nFRUIT\nROWLESBURG
URL:https://prestonseniors.org/event/lunch-menu-242/
CATEGORIES:Menu
END:VEVENT
BEGIN:VEVENT
DTSTART;VALUE=DATE:20210805
DTEND;VALUE=DATE:20210806
DTSTAMP:20260423T162655
CREATED:20210630T125547Z
LAST-MODIFIED:20210630T125547Z
UID:1267-1628121600-1628207999@prestonseniors.org
SUMMARY:Lunch Menu
DESCRIPTION:CHICKEN CASSEROLE\nSTEAMED BROCCOLI\nAPPLESAUCE
URL:https://prestonseniors.org/event/lunch-menu-241/
CATEGORIES:Menu
END:VEVENT
BEGIN:VEVENT
DTSTART;VALUE=DATE:20210804
DTEND;VALUE=DATE:20210805
DTSTAMP:20260423T162655
CREATED:20210630T125520Z
LAST-MODIFIED:20210630T125520Z
UID:1265-1628035200-1628121599@prestonseniors.org
SUMMARY:Lunch Menu
DESCRIPTION:SECOND SERVING\nKINGWOOD CENTER ONLY
URL:https://prestonseniors.org/event/lunch-menu-240/
CATEGORIES:Menu
END:VEVENT
BEGIN:VEVENT
DTSTART;VALUE=DATE:20210803
DTEND;VALUE=DATE:20210804
DTSTAMP:20260423T162655
CREATED:20210630T125455Z
LAST-MODIFIED:20210809T110445Z
UID:1263-1627948800-1628035199@prestonseniors.org
SUMMARY:Lunch Menu
DESCRIPTION:HAMBURGER/BUN\nLETTUCE & TOMATO\nPOTATO SOUP\nFRUIT\nPUDDING\nNORTH PRESTON
URL:https://prestonseniors.org/event/lunch-menu-239/
CATEGORIES:Menu
END:VEVENT
BEGIN:VEVENT
DTSTART;VALUE=DATE:20210802
DTEND;VALUE=DATE:20210803
DTSTAMP:20260423T162655
CREATED:20210630T125411Z
LAST-MODIFIED:20210630T125411Z
UID:1261-1627862400-1627948799@prestonseniors.org
SUMMARY:Lunch Menu
DESCRIPTION:CHICKEN SANDWICH\nLETTUCE & TOMATO\nCAUIFLOWER & GREENS\nFRUIT
URL:https://prestonseniors.org/event/lunch-menu-238/
CATEGORIES:Menu
END:VEVENT
BEGIN:VEVENT
DTSTART;VALUE=DATE:20210730
DTEND;VALUE=DATE:20210731
DTSTAMP:20260423T162655
CREATED:20210630T124717Z
LAST-MODIFIED:20210630T124717Z
UID:1259-1627603200-1627689599@prestonseniors.org
SUMMARY:Lunch Menu
DESCRIPTION:POLISH SAUSAGE\nW/ GREEN & RED PEPPER STRIPS\,\nSAUTEED ONIONS\,\nMOZARELLA CHEESE\nSAUERKRAUT\nFRUIT
URL:https://prestonseniors.org/event/lunch-menu-237/
CATEGORIES:Menu
END:VEVENT
BEGIN:VEVENT
DTSTART;VALUE=DATE:20210729
DTEND;VALUE=DATE:20210730
DTSTAMP:20260423T162655
CREATED:20210630T124631Z
LAST-MODIFIED:20210630T124631Z
UID:1257-1627516800-1627603199@prestonseniors.org
SUMMARY:Lunch Menu
DESCRIPTION:BEEF TAMALE PIE\nW/ CORNBREAD CRUST\nSUNNY CARROTS\nBRUSSEL SPROUTS\nFRUIT
URL:https://prestonseniors.org/event/lunch-menu-236/
CATEGORIES:Menu
END:VEVENT
BEGIN:VEVENT
DTSTART;VALUE=DATE:20210728
DTEND;VALUE=DATE:20210729
DTSTAMP:20260423T162655
CREATED:20210630T124551Z
LAST-MODIFIED:20210630T124551Z
UID:1255-1627430400-1627516799@prestonseniors.org
SUMMARY:Lunch Menu
DESCRIPTION:SECOND SERVING\nKINGWOOD CENTER ONLY
URL:https://prestonseniors.org/event/lunch-menu-235/
CATEGORIES:Menu
END:VEVENT
BEGIN:VEVENT
DTSTART;VALUE=DATE:20210727
DTEND;VALUE=DATE:20210728
DTSTAMP:20260423T162655
CREATED:20210630T124527Z
LAST-MODIFIED:20210630T124527Z
UID:1253-1627344000-1627430399@prestonseniors.org
SUMMARY:Lunch Menu
DESCRIPTION:CHEF SALAD W/\nHAM & CHICKEN\nCRACKERS\nBAKED POTATO\nCOOKIE
URL:https://prestonseniors.org/event/lunch-menu-234/
CATEGORIES:Menu
END:VEVENT
BEGIN:VEVENT
DTSTART;VALUE=DATE:20210726
DTEND;VALUE=DATE:20210727
DTSTAMP:20260423T162655
CREATED:20210630T124406Z
LAST-MODIFIED:20210630T124406Z
UID:1251-1627257600-1627343999@prestonseniors.org
SUMMARY:Lunch Menu
DESCRIPTION:FISH PATTY SANDWICH\nTARTAR SAUCE\nVEGETABLE BEEF SOUP\nFRUIT
URL:https://prestonseniors.org/event/lunch-menu-233/
CATEGORIES:Menu
END:VEVENT
BEGIN:VEVENT
DTSTART;VALUE=DATE:20210723
DTEND;VALUE=DATE:20210724
DTSTAMP:20260423T162655
CREATED:20210630T124325Z
LAST-MODIFIED:20210630T124325Z
UID:1249-1626998400-1627084799@prestonseniors.org
SUMMARY:Lunch Menu
DESCRIPTION:SALMON PATTY\nTOMATO SOUP\nCRACKERS\nFRUIT
URL:https://prestonseniors.org/event/lunch-menu-232/
CATEGORIES:Menu
END:VEVENT
BEGIN:VEVENT
DTSTART;VALUE=DATE:20210722
DTEND;VALUE=DATE:20210723
DTSTAMP:20260423T162655
CREATED:20210630T124253Z
LAST-MODIFIED:20210630T124253Z
UID:1247-1626912000-1626998399@prestonseniors.org
SUMMARY:Lunch Menu
DESCRIPTION:STUFFED PEPPERS\nMASHED POTATOES\nBABY LIMA BEANS & CORN\nWHOLE WHEAT BREAD\nFRUIT\nNEWBURG
URL:https://prestonseniors.org/event/lunch-menu-231/
CATEGORIES:Menu
END:VEVENT
BEGIN:VEVENT
DTSTART;VALUE=DATE:20210721
DTEND;VALUE=DATE:20210722
DTSTAMP:20260423T162655
CREATED:20210630T124216Z
LAST-MODIFIED:20210630T124216Z
UID:1245-1626825600-1626911999@prestonseniors.org
SUMMARY:Lunch Menu
DESCRIPTION:SECOND SERVING\nKINGWOOD CENTER ONLY
URL:https://prestonseniors.org/event/lunch-menu-230/
CATEGORIES:Menu
END:VEVENT
BEGIN:VEVENT
DTSTART;VALUE=DATE:20210720
DTEND;VALUE=DATE:20210721
DTSTAMP:20260423T162655
CREATED:20210630T124146Z
LAST-MODIFIED:20210630T124146Z
UID:1243-1626739200-1626825599@prestonseniors.org
SUMMARY:Lunch Menu
DESCRIPTION:SPAGHETTI W/ MEAT SAUCE\nBROCCOLI\nITALIAN BREAD\nAPPLESAUCE\nKINGWOOD
URL:https://prestonseniors.org/event/lunch-menu-229/
CATEGORIES:Menu
END:VEVENT
BEGIN:VEVENT
DTSTART;VALUE=DATE:20210719
DTEND;VALUE=DATE:20210720
DTSTAMP:20260423T162655
CREATED:20210630T124105Z
LAST-MODIFIED:20210630T124105Z
UID:1241-1626652800-1626739199@prestonseniors.org
SUMMARY:Lunch Menu
DESCRIPTION:CRISPY CHICKEN\nAU GRATIN POTATOES\nSUNNY CARROTS\nWHOLE WHEAT BREAD\nFRUIT
URL:https://prestonseniors.org/event/lunch-menu-228/
CATEGORIES:Menu
END:VEVENT
BEGIN:VEVENT
DTSTART;VALUE=DATE:20210716
DTEND;VALUE=DATE:20210717
DTSTAMP:20260423T162655
CREATED:20210630T124019Z
LAST-MODIFIED:20210630T124019Z
UID:1239-1626393600-1626479999@prestonseniors.org
SUMMARY:Lunch Menu
DESCRIPTION:PORK RIB PATTY W/ BUN\nCAULIFLOWER/BROCCOLI\nBAKED BEANS\nFRUIT\nVALLEY DISTRICT
URL:https://prestonseniors.org/event/lunch-menu-227/
CATEGORIES:Menu
END:VEVENT
BEGIN:VEVENT
DTSTART;VALUE=DATE:20210715
DTEND;VALUE=DATE:20210716
DTSTAMP:20260423T162655
CREATED:20210630T123942Z
LAST-MODIFIED:20210630T123942Z
UID:1237-1626307200-1626393599@prestonseniors.org
SUMMARY:Lunch Menu
DESCRIPTION:PORKCHOP\nSAUERKRAUT\nSUCCOTASH\nWHOLE WHEAT BREAD\nFRUIT\nTERRA ALTA
URL:https://prestonseniors.org/event/lunch-menu-226/
CATEGORIES:Menu
END:VEVENT
BEGIN:VEVENT
DTSTART;VALUE=DATE:20210714
DTEND;VALUE=DATE:20210715
DTSTAMP:20260423T162655
CREATED:20210630T123907Z
LAST-MODIFIED:20210630T123907Z
UID:1235-1626220800-1626307199@prestonseniors.org
SUMMARY:Lunch Menu
DESCRIPTION:SECOND SERVING\nKINGWOOD CENTER ONLY
URL:https://prestonseniors.org/event/lunch-menu-225/
CATEGORIES:Menu
END:VEVENT
BEGIN:VEVENT
DTSTART;VALUE=DATE:20210713
DTEND;VALUE=DATE:20210714
DTSTAMP:20260423T162655
CREATED:20210630T123845Z
LAST-MODIFIED:20210630T123845Z
UID:1233-1626134400-1626220799@prestonseniors.org
SUMMARY:Lunch Menu
DESCRIPTION:HAM\nSWEET POTATOES\nMIXED VEGETABLES\nWHOLE WHEAT BREAD\nFRUIT\nTUNNELTON
URL:https://prestonseniors.org/event/lunch-menu-224/
CATEGORIES:Menu
END:VEVENT
BEGIN:VEVENT
DTSTART;VALUE=DATE:20210712
DTEND;VALUE=DATE:20210713
DTSTAMP:20260423T162655
CREATED:20210630T123809Z
LAST-MODIFIED:20210630T123809Z
UID:1231-1626048000-1626134399@prestonseniors.org
SUMMARY:Lunch Menu
DESCRIPTION:CHICKEN PATTY SANDWICH\nLETTUCE\, TOMATO\, MAYO\nPEAS/CARROTS\nBUTTERED POTATOES\nFRUIT
URL:https://prestonseniors.org/event/lunch-menu-223/
CATEGORIES:Menu
END:VEVENT
BEGIN:VEVENT
DTSTART;VALUE=DATE:20210709
DTEND;VALUE=DATE:20210710
DTSTAMP:20260423T162655
CREATED:20210630T123715Z
LAST-MODIFIED:20210630T123715Z
UID:1229-1625788800-1625875199@prestonseniors.org
SUMMARY:Lunch Menu
DESCRIPTION:CHICKEN CHILI W/ CHEESE\nCOLESLAW\nCORNBREAD
URL:https://prestonseniors.org/event/lunch-menu-222/
CATEGORIES:Menu
END:VEVENT
BEGIN:VEVENT
DTSTART;VALUE=DATE:20210708
DTEND;VALUE=DATE:20210709
DTSTAMP:20260423T162655
CREATED:20210630T123649Z
LAST-MODIFIED:20210630T123649Z
UID:1227-1625702400-1625788799@prestonseniors.org
SUMMARY:Lunch Menu
DESCRIPTION:MEATLOAF\nMASHED POTATOES\nGEEEN BEANS\nWHOLE WHEAT BREAD\nFRUIT\nUNION DISTRICT
URL:https://prestonseniors.org/event/lunch-menu-221/
CATEGORIES:Menu
END:VEVENT
BEGIN:VEVENT
DTSTART;VALUE=DATE:20210707
DTEND;VALUE=DATE:20210708
DTSTAMP:20260423T162655
CREATED:20210630T123609Z
LAST-MODIFIED:20210630T123609Z
UID:1225-1625616000-1625702399@prestonseniors.org
SUMMARY:Lunch Menu
DESCRIPTION:SECOND SERVING\nKINGWOOD CENTER ONLY
URL:https://prestonseniors.org/event/lunch-menu-220/
CATEGORIES:Menu
END:VEVENT
BEGIN:VEVENT
DTSTART;VALUE=DATE:20210706
DTEND;VALUE=DATE:20210707
DTSTAMP:20260423T162655
CREATED:20210630T123526Z
LAST-MODIFIED:20210630T123526Z
UID:1223-1625529600-1625615999@prestonseniors.org
SUMMARY:Lunch Menu
DESCRIPTION:CHICKEN TENDERS\nMACARONI & CHEESE\nPEAS\nWHOLE WHEAT BREAD\nFRUIT\nNORTH PRESTON
URL:https://prestonseniors.org/event/lunch-menu-219/
CATEGORIES:Menu
END:VEVENT
BEGIN:VEVENT
DTSTART;VALUE=DATE:20210705
DTEND;VALUE=DATE:20210706
DTSTAMP:20260423T162655
CREATED:20210630T123444Z
LAST-MODIFIED:20210630T123444Z
UID:1221-1625443200-1625529599@prestonseniors.org
SUMMARY:Lunch Menu
DESCRIPTION:CLOSED\nINDEPENDENCE DAY
URL:https://prestonseniors.org/event/lunch-menu-218/
CATEGORIES:Menu
END:VEVENT
BEGIN:VEVENT
DTSTART;VALUE=DATE:20210702
DTEND;VALUE=DATE:20210703
DTSTAMP:20260423T162655
CREATED:20210630T123359Z
LAST-MODIFIED:20210630T123359Z
UID:1219-1625184000-1625270399@prestonseniors.org
SUMMARY:Lunch Menu
DESCRIPTION:BAKED FISH\nSTEWED TOMATOES\nDICED POTATOES\nWHOLE WHEAT BREAD\nCHOCOLATE PUDDING\nROWLESBURG
URL:https://prestonseniors.org/event/lunch-menu-217/
CATEGORIES:Menu
END:VEVENT
BEGIN:VEVENT
DTSTART;VALUE=DATE:20210701
DTEND;VALUE=DATE:20210702
DTSTAMP:20260423T162655
CREATED:20210630T122836Z
LAST-MODIFIED:20210630T122836Z
UID:1217-1625097600-1625183999@prestonseniors.org
SUMMARY:Lunch Menu
DESCRIPTION:HAMBURGER W/ BUN\nLETTUCE\, TOMATO\, PICKLE\nBAKED BEANS\nMACARONI SALAD\nCOOKIE
URL:https://prestonseniors.org/event/lunch-menu-216/
CATEGORIES:Menu
END:VEVENT
END:VCALENDAR