BEGIN:VCALENDAR
VERSION:2.0
PRODID:-//Preston County Senior Citizens, Inc. - ECPv6.15.20//NONSGML v1.0//EN
CALSCALE:GREGORIAN
METHOD:PUBLISH
X-WR-CALNAME:Preston County Senior Citizens, Inc.
X-ORIGINAL-URL:https://prestonseniors.org
X-WR-CALDESC:Events for Preston County Senior Citizens, Inc.
REFRESH-INTERVAL;VALUE=DURATION:PT1H
X-Robots-Tag:noindex
X-PUBLISHED-TTL:PT1H
BEGIN:VTIMEZONE
TZID:UTC
BEGIN:STANDARD
TZOFFSETFROM:+0000
TZOFFSETTO:+0000
TZNAME:UTC
DTSTART:20200101T000000
END:STANDARD
END:VTIMEZONE
BEGIN:VEVENT
DTSTART;VALUE=DATE:20211006
DTEND;VALUE=DATE:20211007
DTSTAMP:20260423T053934
CREATED:20211004T162343Z
LAST-MODIFIED:20211004T162343Z
UID:1369-1633478400-1633564799@prestonseniors.org
SUMMARY:Lunch Menu
DESCRIPTION:SECOND SERVING\nKINGWOOD CENTER ONLY
URL:https://prestonseniors.org/event/lunch-menu-285/
CATEGORIES:Menu
END:VEVENT
BEGIN:VEVENT
DTSTART;VALUE=DATE:20211005
DTEND;VALUE=DATE:20211006
DTSTAMP:20260423T053934
CREATED:20211004T162308Z
LAST-MODIFIED:20211004T162308Z
UID:1367-1633392000-1633478399@prestonseniors.org
SUMMARY:Lunch Menu
DESCRIPTION:TUNA SALAD SANDWICH\nTOMATO SOUP\nFRUIT\nCOTTAGE CHEESE
URL:https://prestonseniors.org/event/lunch-menu-284/
CATEGORIES:Menu
END:VEVENT
BEGIN:VEVENT
DTSTART;VALUE=DATE:20211004
DTEND;VALUE=DATE:20211005
DTSTAMP:20260423T053934
CREATED:20211004T162208Z
LAST-MODIFIED:20211004T162208Z
UID:1365-1633305600-1633391999@prestonseniors.org
SUMMARY:Lunch Menu
DESCRIPTION:CHICKEN TENDERS\nMACARONI & CHEESE\nGREEN BEANS\nFRUIT\nWHOLE WHEAT BREAD
URL:https://prestonseniors.org/event/lunch-menu-283/
CATEGORIES:Menu
END:VEVENT
BEGIN:VEVENT
DTSTART;VALUE=DATE:20211001
DTEND;VALUE=DATE:20211002
DTSTAMP:20260423T053934
CREATED:20211004T162111Z
LAST-MODIFIED:20211004T162111Z
UID:1363-1633046400-1633132799@prestonseniors.org
SUMMARY:Lunch Menu
DESCRIPTION:POTATO SOUP\nHAM & CHEESE SANDWICH\nKINGWOOD CENTER ONLY
URL:https://prestonseniors.org/event/lunch-menu-282/
CATEGORIES:Menu
END:VEVENT
BEGIN:VEVENT
DTSTART;VALUE=DATE:20210930
DTEND;VALUE=DATE:20211001
DTSTAMP:20260423T053934
CREATED:20210630T133005Z
LAST-MODIFIED:20210630T133005Z
UID:1348-1632960000-1633046399@prestonseniors.org
SUMMARY:Lunch Menu
DESCRIPTION:TUNA & NOODLES\nLIMA BEANS\nCABBAGE\nWHOLE WHEAT BREAD\nFRUIT
URL:https://prestonseniors.org/event/lunch-menu-281/
CATEGORIES:Menu
END:VEVENT
BEGIN:VEVENT
DTSTART;VALUE=DATE:20210929
DTEND;VALUE=DATE:20210930
DTSTAMP:20260423T053934
CREATED:20210630T132920Z
LAST-MODIFIED:20210630T132920Z
UID:1346-1632873600-1632959999@prestonseniors.org
SUMMARY:Lunch Menu
DESCRIPTION:SECOND SERVING\nKINGWOOD CENTER ONLY
URL:https://prestonseniors.org/event/lunch-menu-280/
CATEGORIES:Menu
END:VEVENT
BEGIN:VEVENT
DTSTART;VALUE=DATE:20210928
DTEND;VALUE=DATE:20210929
DTSTAMP:20260423T053934
CREATED:20210630T132846Z
LAST-MODIFIED:20210630T132846Z
UID:1344-1632787200-1632873599@prestonseniors.org
SUMMARY:Lunch Menu
DESCRIPTION:HAM\, CABBAGE & POTATOES\nSUNNY CARROTS\nWHOLE WHEAT BREAD\nSPICED APPLE SLICES
URL:https://prestonseniors.org/event/lunch-menu-279/
CATEGORIES:Menu
END:VEVENT
BEGIN:VEVENT
DTSTART;VALUE=DATE:20210927
DTEND;VALUE=DATE:20210928
DTSTAMP:20260423T053934
CREATED:20210630T132813Z
LAST-MODIFIED:20210630T132813Z
UID:1342-1632700800-1632787199@prestonseniors.org
SUMMARY:Lunch Menu
DESCRIPTION:CHILI CON CARNE W/ BEANS\nCORNBREAD\nBEETS\nFRUIT
URL:https://prestonseniors.org/event/lunch-menu-278/
CATEGORIES:Menu
END:VEVENT
BEGIN:VEVENT
DTSTART;VALUE=DATE:20210924
DTEND;VALUE=DATE:20210925
DTSTAMP:20260423T053934
CREATED:20210630T132736Z
LAST-MODIFIED:20210630T132736Z
UID:1340-1632441600-1632527999@prestonseniors.org
SUMMARY:Lunch Menu
DESCRIPTION:BLT CHICKEN SALAD\nBAKED SWEET POTATO\nWHOLE WHEAT ROLL\nFRUIT
URL:https://prestonseniors.org/event/lunch-menu-277/
CATEGORIES:Menu
END:VEVENT
BEGIN:VEVENT
DTSTART;VALUE=DATE:20210923
DTEND;VALUE=DATE:20210924
DTSTAMP:20260423T053934
CREATED:20210630T132702Z
LAST-MODIFIED:20210630T132702Z
UID:1338-1632355200-1632441599@prestonseniors.org
SUMMARY:Lunch Menu
DESCRIPTION:MEATBALL HOAGIE\nMARINARA SAUCE\nCARROTS\nPOTATO CHIPS\nFRUIT\nNEWBURG
URL:https://prestonseniors.org/event/lunch-menu-276/
CATEGORIES:Menu
END:VEVENT
BEGIN:VEVENT
DTSTART;VALUE=DATE:20210922
DTEND;VALUE=DATE:20210923
DTSTAMP:20260423T053934
CREATED:20210630T132617Z
LAST-MODIFIED:20210630T132617Z
UID:1336-1632268800-1632355199@prestonseniors.org
SUMMARY:Lunch Menu
DESCRIPTION:SECOND SERVING\nKINGWOOD CENTER ONLY
URL:https://prestonseniors.org/event/lunch-menu-275/
CATEGORIES:Menu
END:VEVENT
BEGIN:VEVENT
DTSTART;VALUE=DATE:20210921
DTEND;VALUE=DATE:20210922
DTSTAMP:20260423T053934
CREATED:20210630T132514Z
LAST-MODIFIED:20210630T132514Z
UID:1334-1632182400-1632268799@prestonseniors.org
SUMMARY:Lunch Menu
DESCRIPTION:BEEF STROGANOFF W/ NOODLES\nBROCCOLI/CAULIFLOWER\nWHOLE WHEAT BREAD\nFRUIT\nKINGWOOD
URL:https://prestonseniors.org/event/lunch-menu-274/
CATEGORIES:Menu
END:VEVENT
BEGIN:VEVENT
DTSTART;VALUE=DATE:20210920
DTEND;VALUE=DATE:20210921
DTSTAMP:20260423T053934
CREATED:20210630T132439Z
LAST-MODIFIED:20210630T132439Z
UID:1332-1632096000-1632182399@prestonseniors.org
SUMMARY:Lunch Menu
DESCRIPTION:CHICKEN STRIPS\nMACARONI & CHEESE\nGREEN BEANS & ONIONS\nWHOLE WHEAT BREAD\nFRUIT
URL:https://prestonseniors.org/event/lunch-menu-273/
CATEGORIES:Menu
END:VEVENT
BEGIN:VEVENT
DTSTART;VALUE=DATE:20210917
DTEND;VALUE=DATE:20210918
DTSTAMP:20260423T053934
CREATED:20210630T132401Z
LAST-MODIFIED:20210630T132401Z
UID:1330-1631836800-1631923199@prestonseniors.org
SUMMARY:Lunch Menu
DESCRIPTION:SALMON PATTY\nBOILED POTATOES\nSTEWED TOMATOES\nWHOLE WHEAT BREAD\nPUDDING\nVALLEY DISTRICT
URL:https://prestonseniors.org/event/lunch-menu-272/
CATEGORIES:Menu
END:VEVENT
BEGIN:VEVENT
DTSTART;VALUE=DATE:20210916
DTEND;VALUE=DATE:20210917
DTSTAMP:20260423T053934
CREATED:20210630T132316Z
LAST-MODIFIED:20210630T132328Z
UID:1327-1631750400-1631836799@prestonseniors.org
SUMMARY:Lunch Menu
DESCRIPTION:GRILLED CHICKEN SALAD\nCOTTAGE CHEESE\nBEETS\nFRUIT\nTERRA ALTA
URL:https://prestonseniors.org/event/lunch-menu-271/
CATEGORIES:Menu
END:VEVENT
BEGIN:VEVENT
DTSTART;VALUE=DATE:20210915
DTEND;VALUE=DATE:20210916
DTSTAMP:20260423T053934
CREATED:20210630T132240Z
LAST-MODIFIED:20210630T132240Z
UID:1325-1631664000-1631750399@prestonseniors.org
SUMMARY:Lunch Menu
DESCRIPTION:SECOND SERVING\nKINGWOOD CENTER ONLY
URL:https://prestonseniors.org/event/lunch-menu-270/
CATEGORIES:Menu
END:VEVENT
BEGIN:VEVENT
DTSTART;VALUE=DATE:20210914
DTEND;VALUE=DATE:20210915
DTSTAMP:20260423T053934
CREATED:20210630T132214Z
LAST-MODIFIED:20210630T132214Z
UID:1323-1631577600-1631663999@prestonseniors.org
SUMMARY:Lunch Menu
DESCRIPTION:SALISBURY STEAK\nMASHED POTATOES\nGREEN BEANS WHOLE\nWHEAT BREAD\nFRUIT\nTUNNELTON
URL:https://prestonseniors.org/event/lunch-menu-269/
CATEGORIES:Menu
END:VEVENT
BEGIN:VEVENT
DTSTART;VALUE=DATE:20210913
DTEND;VALUE=DATE:20210914
DTSTAMP:20260423T053934
CREATED:20210630T132136Z
LAST-MODIFIED:20210630T132136Z
UID:1321-1631491200-1631577599@prestonseniors.org
SUMMARY:Lunch Menu
DESCRIPTION:SPAGHETTI W/ MEAT SAUCE\nMIXED GREENS\nITALIAN BREAD\nSPICED APPLES W/ RAISINS
URL:https://prestonseniors.org/event/lunch-menu-268/
CATEGORIES:Menu
END:VEVENT
BEGIN:VEVENT
DTSTART;VALUE=DATE:20210910
DTEND;VALUE=DATE:20210911
DTSTAMP:20260423T053934
CREATED:20210630T132040Z
LAST-MODIFIED:20210630T132040Z
UID:1319-1631232000-1631318399@prestonseniors.org
SUMMARY:Lunch Menu
DESCRIPTION:TURKEY & CHEESE SANDWICH\nBROCCOLI & CHEESE SOUP\nFRUIT
URL:https://prestonseniors.org/event/lunch-menu-267/
CATEGORIES:Menu
END:VEVENT
BEGIN:VEVENT
DTSTART;VALUE=DATE:20210909
DTEND;VALUE=DATE:20210910
DTSTAMP:20260423T053934
CREATED:20210630T132012Z
LAST-MODIFIED:20210630T132012Z
UID:1317-1631145600-1631231999@prestonseniors.org
SUMMARY:Lunch Menu
DESCRIPTION:GRANDPARENT’S DAY LUNCHEON\nLASAGNA\nSIDE SALAD\nITALIAN BREAD\nAPPLE PIE\nUNION DISTRICT\nHAPPY GRANDPARENTS DAY
URL:https://prestonseniors.org/event/lunch-menu-266/
CATEGORIES:Menu
END:VEVENT
BEGIN:VEVENT
DTSTART;VALUE=DATE:20210908
DTEND;VALUE=DATE:20210909
DTSTAMP:20260423T053934
CREATED:20210630T131912Z
LAST-MODIFIED:20210630T131912Z
UID:1315-1631059200-1631145599@prestonseniors.org
SUMMARY:Lunch Menu
DESCRIPTION:SECOND SERVING\nKINGWOOD CENTER ONLY
URL:https://prestonseniors.org/event/lunch-menu-265/
CATEGORIES:Menu
END:VEVENT
BEGIN:VEVENT
DTSTART;VALUE=DATE:20210907
DTEND;VALUE=DATE:20210908
DTSTAMP:20260423T053934
CREATED:20210630T131834Z
LAST-MODIFIED:20210630T131834Z
UID:1313-1630972800-1631059199@prestonseniors.org
SUMMARY:Lunch Menu
DESCRIPTION:SWEDISH MEATBALLS\nEGG NOODLES\nMIXED GREANS\nWHOLE WHEAT BREAD\nFRUIT\nNORTH PRESTON
URL:https://prestonseniors.org/event/lunch-menu-264/
CATEGORIES:Menu
END:VEVENT
BEGIN:VEVENT
DTSTART;VALUE=DATE:20210906
DTEND;VALUE=DATE:20210907
DTSTAMP:20260423T053934
CREATED:20210630T131736Z
LAST-MODIFIED:20210630T131736Z
UID:1311-1630886400-1630972799@prestonseniors.org
SUMMARY:Lunch Menu
DESCRIPTION:CLOSED\nLABOR DAY
URL:https://prestonseniors.org/event/lunch-menu-263/
CATEGORIES:Menu
END:VEVENT
BEGIN:VEVENT
DTSTART;VALUE=DATE:20210903
DTEND;VALUE=DATE:20210904
DTSTAMP:20260423T053934
CREATED:20210630T131700Z
LAST-MODIFIED:20210630T131700Z
UID:1309-1630627200-1630713599@prestonseniors.org
SUMMARY:Lunch Menu
DESCRIPTION:CHILI\nCORNBREAD\nCOLESLAW\nCHOCOLATE PUDDING\nROWLESBURG
URL:https://prestonseniors.org/event/lunch-menu-262/
CATEGORIES:Menu
END:VEVENT
BEGIN:VEVENT
DTSTART;VALUE=DATE:20210902
DTEND;VALUE=DATE:20210903
DTSTAMP:20260423T053934
CREATED:20210630T131625Z
LAST-MODIFIED:20210630T131625Z
UID:1307-1630540800-1630627199@prestonseniors.org
SUMMARY:Lunch Menu
DESCRIPTION:PEPPERONI ROLL\nMARINARA SAUCE\nCOTTAGE CHEESE\nCORN\nFRUIT
URL:https://prestonseniors.org/event/lunch-menu-261/
CATEGORIES:Menu
END:VEVENT
BEGIN:VEVENT
DTSTART;VALUE=DATE:20210901
DTEND;VALUE=DATE:20210902
DTSTAMP:20260423T053934
CREATED:20210630T131546Z
LAST-MODIFIED:20210630T131546Z
UID:1305-1630454400-1630540799@prestonseniors.org
SUMMARY:Lunch Menu
DESCRIPTION:SECOND SERVING\nKINGWOOD CENTER ONLY
URL:https://prestonseniors.org/event/lunch-menu-260/
CATEGORIES:Menu
END:VEVENT
BEGIN:VEVENT
DTSTART;VALUE=DATE:20210831
DTEND;VALUE=DATE:20210901
DTSTAMP:20260423T053934
CREATED:20210630T130936Z
LAST-MODIFIED:20210630T130936Z
UID:1303-1630368000-1630454399@prestonseniors.org
SUMMARY:Lunch Menu
DESCRIPTION:BBQ GRILLED CHICKEN\nPEAS/CORN\nNAVY BEANS\nWHOLE WHEAT BREAD\nFRUIT
URL:https://prestonseniors.org/event/lunch-menu-259/
CATEGORIES:Menu
END:VEVENT
BEGIN:VEVENT
DTSTART;VALUE=DATE:20210830
DTEND;VALUE=DATE:20210831
DTSTAMP:20260423T053934
CREATED:20210630T130903Z
LAST-MODIFIED:20210630T130903Z
UID:1301-1630281600-1630367999@prestonseniors.org
SUMMARY:Lunch Menu
DESCRIPTION:TUNA CAKES\nBROCCOLI CASSEROLE\nSTEWED TOMATOES\nWHOLE WHEAT BREAD\nFRUIT
URL:https://prestonseniors.org/event/lunch-menu-258/
CATEGORIES:Menu
END:VEVENT
BEGIN:VEVENT
DTSTART;VALUE=DATE:20210827
DTEND;VALUE=DATE:20210828
DTSTAMP:20260423T053934
CREATED:20210630T130835Z
LAST-MODIFIED:20210809T110846Z
UID:1299-1630022400-1630108799@prestonseniors.org
SUMMARY:Lunch Menu
DESCRIPTION:CREAMED CHICKEN\nOVER BISCUITS\nMASHED POTATOES\nGREEN BEANS\nFRUIT CUP
URL:https://prestonseniors.org/event/lunch-menu-257/
CATEGORIES:Menu
END:VEVENT
BEGIN:VEVENT
DTSTART;VALUE=DATE:20210826
DTEND;VALUE=DATE:20210827
DTSTAMP:20260423T053934
CREATED:20210630T130808Z
LAST-MODIFIED:20210630T130808Z
UID:1297-1629936000-1630022399@prestonseniors.org
SUMMARY:Lunch Menu
DESCRIPTION:HAM\, CHEESE & TURKEY WRAPS\nMACARONI SALAD\nFRUIT\nCOOKIE\nNEWBURG
URL:https://prestonseniors.org/event/lunch-menu-256/
CATEGORIES:Menu
END:VEVENT
END:VCALENDAR