BEGIN:VCALENDAR
VERSION:2.0
PRODID:-//Preston County Senior Citizens, Inc. - ECPv6.15.20//NONSGML v1.0//EN
CALSCALE:GREGORIAN
METHOD:PUBLISH
X-WR-CALNAME:Preston County Senior Citizens, Inc.
X-ORIGINAL-URL:https://prestonseniors.org
X-WR-CALDESC:Events for Preston County Senior Citizens, Inc.
REFRESH-INTERVAL;VALUE=DURATION:PT1H
X-Robots-Tag:noindex
X-PUBLISHED-TTL:PT1H
BEGIN:VTIMEZONE
TZID:UTC
BEGIN:STANDARD
TZOFFSETFROM:+0000
TZOFFSETTO:+0000
TZNAME:UTC
DTSTART:20200101T000000
END:STANDARD
END:VTIMEZONE
BEGIN:VEVENT
DTSTART;VALUE=DATE:20220128
DTEND;VALUE=DATE:20220129
DTSTAMP:20260422T082255
CREATED:20220113T165100Z
LAST-MODIFIED:20220113T165100Z
UID:1552-1643328000-1643414399@prestonseniors.org
SUMMARY:Lunch Menu
DESCRIPTION:FISH\nSTEWED TOMATOES\nSPINACH\nFRUIT\nWHOLE WHEAT BREAD
URL:https://prestonseniors.org/event/lunch-menu-365/
CATEGORIES:Menu
END:VEVENT
BEGIN:VEVENT
DTSTART;VALUE=DATE:20220127
DTEND;VALUE=DATE:20220128
DTSTAMP:20260422T082255
CREATED:20220113T165038Z
LAST-MODIFIED:20220113T165038Z
UID:1550-1643241600-1643327999@prestonseniors.org
SUMMARY:Lunch Menu
DESCRIPTION:CHICKEN & NOODLES\nBROCCOLI & CAULIFLOWER W/ CHEESE\nFRUIT\nWHOLE WHEAT BREAD\nNEWBURG
URL:https://prestonseniors.org/event/lunch-menu-364/
CATEGORIES:Menu
END:VEVENT
BEGIN:VEVENT
DTSTART;VALUE=DATE:20220125
DTEND;VALUE=DATE:20220126
DTSTAMP:20260422T082255
CREATED:20220113T165011Z
LAST-MODIFIED:20220113T165011Z
UID:1548-1643068800-1643155199@prestonseniors.org
SUMMARY:Lunch Menu
DESCRIPTION:HOT DOG W/ CHILI ON BUN\nMACARONI & CHEESE\nBAKED BEANS\nFRUIT
URL:https://prestonseniors.org/event/lunch-menu-363/
CATEGORIES:Menu
END:VEVENT
BEGIN:VEVENT
DTSTART;VALUE=DATE:20220124
DTEND;VALUE=DATE:20220125
DTSTAMP:20260422T082255
CREATED:20220113T164950Z
LAST-MODIFIED:20220113T164950Z
UID:1546-1642982400-1643068799@prestonseniors.org
SUMMARY:Lunch Menu
DESCRIPTION:CABBAGE ROLLS\nMASHED POTATOES\nPEAS\nFRUIT\nWHOLE WHEAT BREAD
URL:https://prestonseniors.org/event/lunch-menu-362/
CATEGORIES:Menu
END:VEVENT
BEGIN:VEVENT
DTSTART;VALUE=DATE:20220121
DTEND;VALUE=DATE:20220122
DTSTAMP:20260422T082255
CREATED:20220113T164909Z
LAST-MODIFIED:20220113T164909Z
UID:1544-1642723200-1642809599@prestonseniors.org
SUMMARY:Lunch Menu
DESCRIPTION:MEATBALL HOAGIE\nBAKED BEANS\nCHIPS\nFRUIT\nVALLEY
URL:https://prestonseniors.org/event/lunch-menu-361/
CATEGORIES:Menu
END:VEVENT
BEGIN:VEVENT
DTSTART;VALUE=DATE:20220120
DTEND;VALUE=DATE:20220121
DTSTAMP:20260422T082255
CREATED:20220113T164845Z
LAST-MODIFIED:20220113T164845Z
UID:1542-1642636800-1642723199@prestonseniors.org
SUMMARY:Lunch Menu
DESCRIPTION:CHILI\nCORNBREAD\nCORN\nFRUIT\n\nTERRA ALTA
URL:https://prestonseniors.org/event/lunch-menu-360/
CATEGORIES:Menu
END:VEVENT
BEGIN:VEVENT
DTSTART;VALUE=DATE:20220118
DTEND;VALUE=DATE:20220119
DTSTAMP:20260422T082255
CREATED:20220113T164810Z
LAST-MODIFIED:20220113T164810Z
UID:1540-1642464000-1642550399@prestonseniors.org
SUMMARY:Lunch Menu
DESCRIPTION:GRILLED CHICKEN\nAU GRATIN POTATOES\nPEAS\nFRUIT\nWHOLE WHEAT BREAD\nKINGWOOD
URL:https://prestonseniors.org/event/lunch-menu-359/
CATEGORIES:Menu
END:VEVENT
BEGIN:VEVENT
DTSTART;VALUE=DATE:20220117
DTEND;VALUE=DATE:20220118
DTSTAMP:20260422T082255
CREATED:20220113T164742Z
LAST-MODIFIED:20220113T164742Z
UID:1538-1642377600-1642463999@prestonseniors.org
SUMMARY:Lunch Menu
DESCRIPTION:CLOSED\nMLK JR. DAY
URL:https://prestonseniors.org/event/lunch-menu-358/
CATEGORIES:Menu
END:VEVENT
BEGIN:VEVENT
DTSTART;VALUE=DATE:20220114
DTEND;VALUE=DATE:20220115
DTSTAMP:20260422T082255
CREATED:20220113T164706Z
LAST-MODIFIED:20220113T164706Z
UID:1536-1642118400-1642204799@prestonseniors.org
SUMMARY:Lunch Menu
DESCRIPTION:ROAST BEEF W/ GRAVY\nMASHED POTATOES\nGREEN BEANS\nFRUIT\nROLL
URL:https://prestonseniors.org/event/lunch-menu-357/
CATEGORIES:Menu
END:VEVENT
BEGIN:VEVENT
DTSTART;VALUE=DATE:20220113
DTEND;VALUE=DATE:20220114
DTSTAMP:20260422T082255
CREATED:20220113T164638Z
LAST-MODIFIED:20220113T164638Z
UID:1534-1642032000-1642118399@prestonseniors.org
SUMMARY:Lunch Menu
DESCRIPTION:HOBO BEANS\nCORNBREAD\nBROCCOLI/CAULIFLOWER\nFRUIT\nUNION DISTRICT
URL:https://prestonseniors.org/event/lunch-menu-356/
CATEGORIES:Menu
END:VEVENT
BEGIN:VEVENT
DTSTART;VALUE=DATE:20220112
DTEND;VALUE=DATE:20220113
DTSTAMP:20260422T082255
CREATED:20220113T164556Z
LAST-MODIFIED:20220113T164556Z
UID:1521-1641945600-1642031999@prestonseniors.org
SUMMARY:Lunch Menu
DESCRIPTION:SECOND SERVING\nKINGWOOD CENTER ONLY
URL:https://prestonseniors.org/event/lunch-menu-355/2022-01-12/
CATEGORIES:Menu
END:VEVENT
BEGIN:VEVENT
DTSTART;VALUE=DATE:20220111
DTEND;VALUE=DATE:20220112
DTSTAMP:20260422T082255
CREATED:20220113T164508Z
LAST-MODIFIED:20220113T164508Z
UID:1519-1641859200-1641945599@prestonseniors.org
SUMMARY:Lunch Menu
DESCRIPTION:COUNTRY FRIED STEAK\nMASHED POTATOES\nCORN\nFRUIT\nWHOLE WHEAT BREAD\nTUNNELTON
URL:https://prestonseniors.org/event/lunch-menu-354/
CATEGORIES:Menu
END:VEVENT
BEGIN:VEVENT
DTSTART;VALUE=DATE:20220110
DTEND;VALUE=DATE:20220111
DTSTAMP:20260422T082255
CREATED:20220113T164441Z
LAST-MODIFIED:20220113T164441Z
UID:1517-1641772800-1641859199@prestonseniors.org
SUMMARY:Lunch Menu
DESCRIPTION:HAM & CHEESE SANDWICH\nTOMATO SOUP\nFRUIT
URL:https://prestonseniors.org/event/lunch-menu-353/
CATEGORIES:Menu
END:VEVENT
BEGIN:VEVENT
DTSTART;VALUE=DATE:20220107
DTEND;VALUE=DATE:20220108
DTSTAMP:20260422T082255
CREATED:20220113T164352Z
LAST-MODIFIED:20220113T164352Z
UID:1515-1641513600-1641599999@prestonseniors.org
SUMMARY:Lunch Menu
DESCRIPTION:CHICKEN TENDERS\nMACARONI & CHEESE\nPEAS\nFRUIT\nWHOLE WHEAT BREAD\nROWLESBURG
URL:https://prestonseniors.org/event/lunch-menu-352/
CATEGORIES:Menu
END:VEVENT
BEGIN:VEVENT
DTSTART;VALUE=DATE:20220106
DTEND;VALUE=DATE:20220107
DTSTAMP:20260422T082255
CREATED:20220113T164326Z
LAST-MODIFIED:20220113T164326Z
UID:1513-1641427200-1641513599@prestonseniors.org
SUMMARY:Lunch Menu
DESCRIPTION:POLISH SAUSAGE ON BUN\nSAUERKRAUT\nMASHED POTATOES\nFRUIT
URL:https://prestonseniors.org/event/lunch-menu-351/
CATEGORIES:Menu
END:VEVENT
BEGIN:VEVENT
DTSTART;VALUE=DATE:20220105
DTEND;VALUE=DATE:20220106
DTSTAMP:20260422T082255
CREATED:20220113T164255Z
LAST-MODIFIED:20220113T164255Z
UID:1511-1641340800-1641427199@prestonseniors.org
SUMMARY:Lunch Menu
DESCRIPTION:SECOND SERVING\nKINGWOOD CENTER ONLY
URL:https://prestonseniors.org/event/lunch-menu-350/
CATEGORIES:Menu
END:VEVENT
BEGIN:VEVENT
DTSTART;VALUE=DATE:20220104
DTEND;VALUE=DATE:20220105
DTSTAMP:20260422T082255
CREATED:20220113T164232Z
LAST-MODIFIED:20220113T164232Z
UID:1509-1641254400-1641340799@prestonseniors.org
SUMMARY:Lunch Menu
DESCRIPTION:BEEF MACARONI\nBROCCOLI/CAULIFLOWER\nFRUIT\nWHOLE WHEAT BREAD\nNORTH PRESTON
URL:https://prestonseniors.org/event/lunch-menu-349/
CATEGORIES:Menu
END:VEVENT
BEGIN:VEVENT
DTSTART;VALUE=DATE:20220103
DTEND;VALUE=DATE:20220104
DTSTAMP:20260422T082255
CREATED:20220113T164151Z
LAST-MODIFIED:20220113T164151Z
UID:1507-1641168000-1641254399@prestonseniors.org
SUMMARY:Lunch Menu
DESCRIPTION:BEANS\nCORNBREAD\nMIXED GREENS\nFRUIT
URL:https://prestonseniors.org/event/lunch-menu-348/
CATEGORIES:Menu
END:VEVENT
BEGIN:VEVENT
DTSTART;VALUE=DATE:20211231
DTEND;VALUE=DATE:20220101
DTSTAMP:20260422T082255
CREATED:20211206T195758Z
LAST-MODIFIED:20211206T195758Z
UID:1505-1640908800-1640995199@prestonseniors.org
SUMMARY:Lunch Menu
DESCRIPTION:CLOSED\nNEW YEAR’S EVE
URL:https://prestonseniors.org/event/lunch-menu-347/
CATEGORIES:Menu
END:VEVENT
BEGIN:VEVENT
DTSTART;VALUE=DATE:20211230
DTEND;VALUE=DATE:20211231
DTSTAMP:20260422T082255
CREATED:20211206T195724Z
LAST-MODIFIED:20211206T195724Z
UID:1503-1640822400-1640908799@prestonseniors.org
SUMMARY:Lunch Menu
DESCRIPTION:CHICKEN PATTY SANDWICH\nLETTUCE/TOMATO\nPASTA SALAD\nBROCCOLI\nFRUIT\nWHOLE WHEAT BREAD
URL:https://prestonseniors.org/event/lunch-menu-346/
CATEGORIES:Menu
END:VEVENT
BEGIN:VEVENT
DTSTART;VALUE=DATE:20211229
DTEND;VALUE=DATE:20211230
DTSTAMP:20260422T082255
CREATED:20211206T195658Z
LAST-MODIFIED:20211206T195658Z
UID:1501-1640736000-1640822399@prestonseniors.org
SUMMARY:Lunch Menu
DESCRIPTION:SECOND SERVING\nKINGWOOD CENTER ONLY
URL:https://prestonseniors.org/event/lunch-menu-345/
CATEGORIES:Menu
END:VEVENT
BEGIN:VEVENT
DTSTART;VALUE=DATE:20211228
DTEND;VALUE=DATE:20211229
DTSTAMP:20260422T082255
CREATED:20211206T195626Z
LAST-MODIFIED:20211206T195626Z
UID:1499-1640649600-1640735999@prestonseniors.org
SUMMARY:Lunch Menu
DESCRIPTION:TUNA SALAD SANDWICH\nTOMATO SOUP\nFRUIT
URL:https://prestonseniors.org/event/lunch-menu-344/
CATEGORIES:Menu
END:VEVENT
BEGIN:VEVENT
DTSTART;VALUE=DATE:20211227
DTEND;VALUE=DATE:20211228
DTSTAMP:20260422T082255
CREATED:20211206T195601Z
LAST-MODIFIED:20211206T195601Z
UID:1497-1640563200-1640649599@prestonseniors.org
SUMMARY:Lunch Menu
DESCRIPTION:CABBAGE\, HAM & POTATOES\nCARROTS\nFRUIT\nWHOLE WHEAT BREAD
URL:https://prestonseniors.org/event/lunch-menu-343/
CATEGORIES:Menu
END:VEVENT
BEGIN:VEVENT
DTSTART;VALUE=DATE:20211224
DTEND;VALUE=DATE:20211225
DTSTAMP:20260422T082255
CREATED:20211206T195536Z
LAST-MODIFIED:20211206T195536Z
UID:1495-1640304000-1640390399@prestonseniors.org
SUMMARY:Lunch Menu
DESCRIPTION:CLOSED\nCHRISTMAS EVE
URL:https://prestonseniors.org/event/lunch-menu-342/
CATEGORIES:Menu
END:VEVENT
BEGIN:VEVENT
DTSTART;VALUE=DATE:20211223
DTEND;VALUE=DATE:20211224
DTSTAMP:20260422T082255
CREATED:20211206T195507Z
LAST-MODIFIED:20211206T195507Z
UID:1493-1640217600-1640303999@prestonseniors.org
SUMMARY:Lunch Menu
DESCRIPTION:HAM\nSWEET POTATOES\nGREEN BEANS & CORN\nFRUIT\nROLL PIE\nNEWBURG
URL:https://prestonseniors.org/event/lunch-menu-341/
CATEGORIES:Menu
END:VEVENT
BEGIN:VEVENT
DTSTART;VALUE=DATE:20211222
DTEND;VALUE=DATE:20211223
DTSTAMP:20260422T082255
CREATED:20211206T195438Z
LAST-MODIFIED:20211206T195438Z
UID:1491-1640131200-1640217599@prestonseniors.org
SUMMARY:Lunch Menu
DESCRIPTION:SECOND SERVING\nKINGWOOD CENTER ONLY
URL:https://prestonseniors.org/event/lunch-menu-340/
CATEGORIES:Menu
END:VEVENT
BEGIN:VEVENT
DTSTART;VALUE=DATE:20211221
DTEND;VALUE=DATE:20211222
DTSTAMP:20260422T082255
CREATED:20211206T195414Z
LAST-MODIFIED:20211206T195414Z
UID:1489-1640044800-1640131199@prestonseniors.org
SUMMARY:Lunch Menu
DESCRIPTION:CREAMED CHICKEN & BISCUIT\nMASHED POTATOES\nGREEN BEANS\nFRUIT\nWHOLE WHEAT BREAD\nKINGWOOD
URL:https://prestonseniors.org/event/lunch-menu-339/
CATEGORIES:Menu
END:VEVENT
BEGIN:VEVENT
DTSTART;VALUE=DATE:20211220
DTEND;VALUE=DATE:20211221
DTSTAMP:20260422T082255
CREATED:20211206T195327Z
LAST-MODIFIED:20211206T195327Z
UID:1487-1639958400-1640044799@prestonseniors.org
SUMMARY:Lunch Menu
DESCRIPTION:CHILI\nCORNBREAD\nCOLESLAW\nFRUIT
URL:https://prestonseniors.org/event/lunch-menu-338/
CATEGORIES:Menu
END:VEVENT
BEGIN:VEVENT
DTSTART;VALUE=DATE:20211217
DTEND;VALUE=DATE:20211218
DTSTAMP:20260422T082255
CREATED:20211206T195300Z
LAST-MODIFIED:20211206T195300Z
UID:1485-1639699200-1639785599@prestonseniors.org
SUMMARY:Lunch Menu
DESCRIPTION:FISH\nSTEWED TOMATOES\nBUTTERED POTATOES\nFRUIT\nWHOLE WHEAT BREAD
URL:https://prestonseniors.org/event/lunch-menu-337/
CATEGORIES:Menu
END:VEVENT
BEGIN:VEVENT
DTSTART;VALUE=DATE:20211216
DTEND;VALUE=DATE:20211217
DTSTAMP:20260422T082255
CREATED:20211206T195232Z
LAST-MODIFIED:20211206T195232Z
UID:1483-1639612800-1639699199@prestonseniors.org
SUMMARY:Lunch Menu
DESCRIPTION:TURKEY\, HAM & CHEESE SANDWICH\nLETTUCE/TOMATO\nCOTTAGE CHEESE\nPINEAPPLE\nWHOLE WHEAT BREAD\nTERRA ALTA
URL:https://prestonseniors.org/event/lunch-menu-336/
CATEGORIES:Menu
END:VEVENT
END:VCALENDAR