BEGIN:VCALENDAR
VERSION:2.0
PRODID:-//Preston County Senior Citizens, Inc. - ECPv6.15.20//NONSGML v1.0//EN
CALSCALE:GREGORIAN
METHOD:PUBLISH
X-WR-CALNAME:Preston County Senior Citizens, Inc.
X-ORIGINAL-URL:https://prestonseniors.org
X-WR-CALDESC:Events for Preston County Senior Citizens, Inc.
REFRESH-INTERVAL;VALUE=DURATION:PT1H
X-Robots-Tag:noindex
X-PUBLISHED-TTL:PT1H
BEGIN:VTIMEZONE
TZID:UTC
BEGIN:STANDARD
TZOFFSETFROM:+0000
TZOFFSETTO:+0000
TZNAME:UTC
DTSTART:20210101T000000
END:STANDARD
END:VTIMEZONE
BEGIN:VEVENT
DTSTART;VALUE=DATE:20220321
DTEND;VALUE=DATE:20220322
DTSTAMP:20260422T000710
CREATED:20220113T170649Z
LAST-MODIFIED:20220301T161314Z
UID:1610-1647820800-1647907199@prestonseniors.org
SUMMARY:Lunch Menu
DESCRIPTION:CREAMED CHICKEN\nBISCUIT\nGREEN BEANS/CORN\nFRUIT
URL:https://prestonseniors.org/event/lunch-menu-394/
CATEGORIES:Menu
END:VEVENT
BEGIN:VEVENT
DTSTART;VALUE=DATE:20220318
DTEND;VALUE=DATE:20220319
DTSTAMP:20260422T000710
CREATED:20220113T170621Z
LAST-MODIFIED:20220301T161225Z
UID:1608-1647561600-1647647999@prestonseniors.org
SUMMARY:Lunch Menu
DESCRIPTION:FISH\nMACARONI & CHEESE\nPEAS\nFRUIT\nWHOLE WHEAT BREAD\nVALLEY
URL:https://prestonseniors.org/event/lunch-menu-393/
CATEGORIES:Menu
END:VEVENT
BEGIN:VEVENT
DTSTART;VALUE=DATE:20220317
DTEND;VALUE=DATE:20220318
DTSTAMP:20260422T000710
CREATED:20220113T170548Z
LAST-MODIFIED:20220113T170548Z
UID:1606-1647475200-1647561599@prestonseniors.org
SUMMARY:Lunch Menu
DESCRIPTION:ST. PATRICKS DAY LUNCHEON\nBAKED HAM\nSWEET POTATOES/GREEN BEANS\nWHOLE WHEAT BREAD\nCOOKIE\nTERRA ALTA
URL:https://prestonseniors.org/event/lunch-menu-392/
CATEGORIES:Menu
END:VEVENT
BEGIN:VEVENT
DTSTART;VALUE=DATE:20220315
DTEND;VALUE=DATE:20220316
DTSTAMP:20260422T000710
CREATED:20220113T170519Z
LAST-MODIFIED:20220113T170519Z
UID:1604-1647302400-1647388799@prestonseniors.org
SUMMARY:Lunch Menu
DESCRIPTION:CHICKEN & RICE\nBROCCOLI/CAULIFLOWER\nFRUIT\nWHOLE WHEAT BREAD\nKINGWOOD
URL:https://prestonseniors.org/event/lunch-menu-391/
CATEGORIES:Menu
END:VEVENT
BEGIN:VEVENT
DTSTART;VALUE=DATE:20220314
DTEND;VALUE=DATE:20220315
DTSTAMP:20260422T000710
CREATED:20220113T170456Z
LAST-MODIFIED:20220113T170456Z
UID:1602-1647216000-1647302399@prestonseniors.org
SUMMARY:Lunch Menu
DESCRIPTION:COUNTRY FRIED STEAK W/ GRAVY\nMASHED POTATOES\nCORN\nFRUIT\nWHOLE WHEAT BREAD
URL:https://prestonseniors.org/event/lunch-menu-390/
CATEGORIES:Menu
END:VEVENT
BEGIN:VEVENT
DTSTART;VALUE=DATE:20220311
DTEND;VALUE=DATE:20220312
DTSTAMP:20260422T000710
CREATED:20220113T170429Z
LAST-MODIFIED:20220301T161116Z
UID:1600-1646956800-1647043199@prestonseniors.org
SUMMARY:Lunch Menu
DESCRIPTION:TUNA SALAD SANDWICH\nPOTATO CHIPS\nBEETS\nFRUIT\nWHOLE WHEAT BREAD
URL:https://prestonseniors.org/event/lunch-menu-389/
CATEGORIES:Menu
END:VEVENT
BEGIN:VEVENT
DTSTART;VALUE=DATE:20220310
DTEND;VALUE=DATE:20220311
DTSTAMP:20260422T000710
CREATED:20220113T170406Z
LAST-MODIFIED:20220113T170406Z
UID:1598-1646870400-1646956799@prestonseniors.org
SUMMARY:Lunch Menu
DESCRIPTION:CABBAGE ROLLS\nMASHED POTATOES\nCARROTS\nFRUIT\nWHOLE WHEAT BREAD\nUNION
URL:https://prestonseniors.org/event/lunch-menu-388/
CATEGORIES:Menu
END:VEVENT
BEGIN:VEVENT
DTSTART;VALUE=DATE:20220308
DTEND;VALUE=DATE:20220309
DTSTAMP:20260422T000710
CREATED:20220113T171037Z
LAST-MODIFIED:20220113T171037Z
UID:1624-1646697600-1646783999@prestonseniors.org
SUMMARY:Lunch Menu
DESCRIPTION:SAUSAGE\, ONION & POTATO CASSEROLE\nBISCUIT\nFRUIT\nTUNNELTON
URL:https://prestonseniors.org/event/lunch-menu-401/
CATEGORIES:Menu
END:VEVENT
BEGIN:VEVENT
DTSTART;VALUE=DATE:20220307
DTEND;VALUE=DATE:20220308
DTSTAMP:20260422T000710
CREATED:20220113T170222Z
LAST-MODIFIED:20220301T161046Z
UID:1594-1646611200-1646697599@prestonseniors.org
SUMMARY:Lunch Menu
DESCRIPTION:GRILLED CHICKEN SANDWICH\nCOTTAGE CHEESE\nBEETS\nFRUIT
URL:https://prestonseniors.org/event/lunch-menu-386/
CATEGORIES:Menu
END:VEVENT
BEGIN:VEVENT
DTSTART;VALUE=DATE:20220304
DTEND;VALUE=DATE:20220305
DTSTAMP:20260422T000710
CREATED:20220113T170125Z
LAST-MODIFIED:20220301T161005Z
UID:1592-1646352000-1646438399@prestonseniors.org
SUMMARY:Lunch Menu
DESCRIPTION:FISH\nSTEWED TOMATOES\nBUTTERED POTATOES\nFRUIT\nWHOLE WHEAT BREAD\nROWLESBURG
URL:https://prestonseniors.org/event/lunch-menu-385/
CATEGORIES:Menu
END:VEVENT
BEGIN:VEVENT
DTSTART;VALUE=DATE:20220303
DTEND;VALUE=DATE:20220304
DTSTAMP:20260422T000710
CREATED:20220113T170054Z
LAST-MODIFIED:20220301T160924Z
UID:1590-1646265600-1646351999@prestonseniors.org
SUMMARY:Lunch Menu
DESCRIPTION:NAVY BEANS\nCORNBREAD\nBRUSSEL SPROUTS\nFRUIT
URL:https://prestonseniors.org/event/lunch-menu-384/
CATEGORIES:Menu
END:VEVENT
BEGIN:VEVENT
DTSTART;VALUE=DATE:20220301
DTEND;VALUE=DATE:20220302
DTSTAMP:20260422T000710
CREATED:20220113T170032Z
LAST-MODIFIED:20220113T170032Z
UID:1588-1646092800-1646179199@prestonseniors.org
SUMMARY:Lunch Menu
DESCRIPTION:HAM SANDWICH\nBROCCOLI SOUP\nFRUIT\nNORTH PRESTON
URL:https://prestonseniors.org/event/lunch-menu-383/
CATEGORIES:Menu
END:VEVENT
BEGIN:VEVENT
DTSTART;VALUE=DATE:20220228
DTEND;VALUE=DATE:20220301
DTSTAMP:20260422T000710
CREATED:20220113T165944Z
LAST-MODIFIED:20220113T165944Z
UID:1586-1646006400-1646092799@prestonseniors.org
SUMMARY:Lunch Menu
DESCRIPTION:SALISBURY STEAK\nMASHED POTATOES\nCORN\nFRUIT\nWHOLE WHEAT BREAD
URL:https://prestonseniors.org/event/lunch-menu-382/
CATEGORIES:Menu
END:VEVENT
BEGIN:VEVENT
DTSTART;VALUE=DATE:20220225
DTEND;VALUE=DATE:20220226
DTSTAMP:20260422T000710
CREATED:20220113T165914Z
LAST-MODIFIED:20220113T165914Z
UID:1584-1645747200-1645833599@prestonseniors.org
SUMMARY:Lunch Menu
DESCRIPTION:CHICKEN TENDERS\nMACARONI & CHEESE\nPEAS\nFRUIT\nWHOLE WHEAT BREAD
URL:https://prestonseniors.org/event/lunch-menu-381/
CATEGORIES:Menu
END:VEVENT
BEGIN:VEVENT
DTSTART;VALUE=DATE:20220224
DTEND;VALUE=DATE:20220225
DTSTAMP:20260422T000710
CREATED:20220113T165853Z
LAST-MODIFIED:20220113T165853Z
UID:1582-1645660800-1645747199@prestonseniors.org
SUMMARY:Lunch Menu
DESCRIPTION:CABBAGE ROLLS\nMASHED POTATOES\nGREEN BEANS\nFRUIT\nWHOLE WHEAT BREAD\nNEWBURG
URL:https://prestonseniors.org/event/lunch-menu-380/
CATEGORIES:Menu
END:VEVENT
BEGIN:VEVENT
DTSTART;VALUE=DATE:20220222
DTEND;VALUE=DATE:20220223
DTSTAMP:20260422T000710
CREATED:20220113T165824Z
LAST-MODIFIED:20220113T165824Z
UID:1580-1645488000-1645574399@prestonseniors.org
SUMMARY:Lunch Menu
DESCRIPTION:HOT DOG W/ CHILI ON BUN\nMACARONI SALAD\nBEETS\nFRUIT
URL:https://prestonseniors.org/event/lunch-menu-379/
CATEGORIES:Menu
END:VEVENT
BEGIN:VEVENT
DTSTART;VALUE=DATE:20220221
DTEND;VALUE=DATE:20220222
DTSTAMP:20260422T000710
CREATED:20220113T165802Z
LAST-MODIFIED:20220113T165802Z
UID:1578-1645401600-1645487999@prestonseniors.org
SUMMARY:Lunch Menu
DESCRIPTION:CLOSED\nPRESIDENT’S DAY
URL:https://prestonseniors.org/event/lunch-menu-378/
CATEGORIES:Menu
END:VEVENT
BEGIN:VEVENT
DTSTART;VALUE=DATE:20220218
DTEND;VALUE=DATE:20220219
DTSTAMP:20260422T000710
CREATED:20220113T165731Z
LAST-MODIFIED:20220113T165731Z
UID:1576-1645142400-1645228799@prestonseniors.org
SUMMARY:Lunch Menu
DESCRIPTION:BEANS\nCORNBREAD\nSPINACH\nFRUIT\nVALLEY
URL:https://prestonseniors.org/event/lunch-menu-377/
CATEGORIES:Menu
END:VEVENT
BEGIN:VEVENT
DTSTART;VALUE=DATE:20220217
DTEND;VALUE=DATE:20220218
DTSTAMP:20260422T000710
CREATED:20220113T165704Z
LAST-MODIFIED:20220113T165704Z
UID:1574-1645056000-1645142399@prestonseniors.org
SUMMARY:Lunch Menu
DESCRIPTION:SLOPPY JOES\nBAKED BEANS\nCORN\nFRUIT\nTERRA ALTA
URL:https://prestonseniors.org/event/lunch-menu-376/
CATEGORIES:Menu
END:VEVENT
BEGIN:VEVENT
DTSTART;VALUE=DATE:20220215
DTEND;VALUE=DATE:20220216
DTSTAMP:20260422T000710
CREATED:20220113T165637Z
LAST-MODIFIED:20220113T165637Z
UID:1572-1644883200-1644969599@prestonseniors.org
SUMMARY:Lunch Menu
DESCRIPTION:GRILLED CHICKEN\nSEASONED RICE\nBROCCOLI\nFRUIT\nWHOLE WHEAT BREAD\nKINGWOOD
URL:https://prestonseniors.org/event/lunch-menu-375/
CATEGORIES:Menu
END:VEVENT
BEGIN:VEVENT
DTSTART;VALUE=DATE:20220214
DTEND;VALUE=DATE:20220215
DTSTAMP:20260422T000710
CREATED:20220113T165527Z
LAST-MODIFIED:20220113T165527Z
UID:1570-1644796800-1644883199@prestonseniors.org
SUMMARY:Lunch Menu
DESCRIPTION:POLISH SAUSAGE ON BUN\nSAUERKRAUT\nMASHED POTATOES\nFRUIT
URL:https://prestonseniors.org/event/lunch-menu-374/
CATEGORIES:Menu
END:VEVENT
BEGIN:VEVENT
DTSTART;VALUE=DATE:20220211
DTEND;VALUE=DATE:20220212
DTSTAMP:20260422T000710
CREATED:20220113T165447Z
LAST-MODIFIED:20220113T165447Z
UID:1568-1644537600-1644623999@prestonseniors.org
SUMMARY:Lunch Menu
DESCRIPTION:HAM & TURKEY SANDWICH\nCOTTAGE CHEESE\nBEETS\nFRUIT
URL:https://prestonseniors.org/event/lunch-menu-373/
CATEGORIES:Menu
END:VEVENT
BEGIN:VEVENT
DTSTART;VALUE=DATE:20220210
DTEND;VALUE=DATE:20220211
DTSTAMP:20260422T000710
CREATED:20220113T165425Z
LAST-MODIFIED:20220113T165425Z
UID:1566-1644451200-1644537599@prestonseniors.org
SUMMARY:Lunch Menu
DESCRIPTION:VALENTINE’S DAY LUNCHEON\nLASAGNA\nTOSSED SALAD\nITALIAN BREAD\nCOOKIE\nUNION
URL:https://prestonseniors.org/event/lunch-menu-372/
CATEGORIES:Menu
END:VEVENT
BEGIN:VEVENT
DTSTART;VALUE=DATE:20220208
DTEND;VALUE=DATE:20220209
DTSTAMP:20260422T000710
CREATED:20220113T170323Z
LAST-MODIFIED:20220113T170323Z
UID:1596-1644278400-1644364799@prestonseniors.org
SUMMARY:Lunch Menu
DESCRIPTION:SAUSAGE\, ONION & POTATO CASSEROLE\nBISCUIT\nFRUIT\n\nTUNNELTON
URL:https://prestonseniors.org/event/lunch-menu-387/
CATEGORIES:Menu
END:VEVENT
BEGIN:VEVENT
DTSTART;VALUE=DATE:20220208
DTEND;VALUE=DATE:20220209
DTSTAMP:20260422T000710
CREATED:20220113T165346Z
LAST-MODIFIED:20220113T165346Z
UID:1564-1644278400-1644364799@prestonseniors.org
SUMMARY:Lunch Menu
DESCRIPTION:SWEDISH MEATBALLS\nMASHED POTATOES\nGREEN BEANS\nFRUIT\nWHOLE WHEAT BREAD\nTUNNELTON
URL:https://prestonseniors.org/event/lunch-menu-371/
CATEGORIES:Menu
END:VEVENT
BEGIN:VEVENT
DTSTART;VALUE=DATE:20220207
DTEND;VALUE=DATE:20220208
DTSTAMP:20260422T000710
CREATED:20220113T165315Z
LAST-MODIFIED:20220113T165315Z
UID:1562-1644192000-1644278399@prestonseniors.org
SUMMARY:Lunch Menu
DESCRIPTION:PORK CHOP\nSAUERKRAUT\nMASHED POTATOES\nFRUIT\nWHOLE WHEAT BREAD
URL:https://prestonseniors.org/event/lunch-menu-370/
CATEGORIES:Menu
END:VEVENT
BEGIN:VEVENT
DTSTART;VALUE=DATE:20220204
DTEND;VALUE=DATE:20220205
DTSTAMP:20260422T000710
CREATED:20220113T165250Z
LAST-MODIFIED:20220113T165250Z
UID:1560-1643932800-1644019199@prestonseniors.org
SUMMARY:Lunch Menu
DESCRIPTION:CHICKEN & NOODLES\nBROCCOLI/CAULIFLOWER\nFRUIT\nWHOLE WHEAT BREAD\nROWLESBURG
URL:https://prestonseniors.org/event/lunch-menu-369/
CATEGORIES:Menu
END:VEVENT
BEGIN:VEVENT
DTSTART;VALUE=DATE:20220203
DTEND;VALUE=DATE:20220204
DTSTAMP:20260422T000710
CREATED:20220113T165227Z
LAST-MODIFIED:20220113T165227Z
UID:1558-1643846400-1643932799@prestonseniors.org
SUMMARY:Lunch Menu
DESCRIPTION:CHILI\nCORNBREAD\nCORN\nFRUIT
URL:https://prestonseniors.org/event/lunch-menu-368/
CATEGORIES:Menu
END:VEVENT
BEGIN:VEVENT
DTSTART;VALUE=DATE:20220201
DTEND;VALUE=DATE:20220202
DTSTAMP:20260422T000710
CREATED:20220113T165207Z
LAST-MODIFIED:20220113T165207Z
UID:1556-1643673600-1643759999@prestonseniors.org
SUMMARY:Lunch Menu
DESCRIPTION:PULLED PORK SANDWICH\nBAKED BEANS\nCOLESLAW\nFRUIT\nNORTH PRESTON
URL:https://prestonseniors.org/event/lunch-menu-367/
CATEGORIES:Menu
END:VEVENT
BEGIN:VEVENT
DTSTART;VALUE=DATE:20220131
DTEND;VALUE=DATE:20220201
DTSTAMP:20260422T000710
CREATED:20220113T165122Z
LAST-MODIFIED:20220113T165122Z
UID:1554-1643587200-1643673599@prestonseniors.org
SUMMARY:Lunch Menu
DESCRIPTION:STUFFED PEPPERS\nMASHED POTATOES\nGREEN BEANS\nFRUIT\nWHOLE WHEAT BREAD
URL:https://prestonseniors.org/event/lunch-menu-366/
CATEGORIES:Menu
END:VEVENT
END:VCALENDAR