BEGIN:VCALENDAR
VERSION:2.0
PRODID:-//Preston County Senior Citizens, Inc. - ECPv6.15.20//NONSGML v1.0//EN
CALSCALE:GREGORIAN
METHOD:PUBLISH
X-WR-CALNAME:Preston County Senior Citizens, Inc.
X-ORIGINAL-URL:https://prestonseniors.org
X-WR-CALDESC:Events for Preston County Senior Citizens, Inc.
REFRESH-INTERVAL;VALUE=DURATION:PT1H
X-Robots-Tag:noindex
X-PUBLISHED-TTL:PT1H
BEGIN:VTIMEZONE
TZID:UTC
BEGIN:STANDARD
TZOFFSETFROM:+0000
TZOFFSETTO:+0000
TZNAME:UTC
DTSTART:20210101T000000
END:STANDARD
END:VTIMEZONE
BEGIN:VEVENT
DTSTART;TZID=UTC:20220502T080000
DTEND;TZID=UTC:20220502T170000
DTSTAMP:20260421T160327
CREATED:20220503T182742Z
LAST-MODIFIED:20220503T183009Z
UID:1745-1651478400-1651510800@prestonseniors.org
SUMMARY:Lunch Menu
DESCRIPTION:Pork Rib Patty w/ Bun Brussel Sprouts Baked Beans Fruit
URL:https://prestonseniors.org/event/lunch-menu-420/
CATEGORIES:Menu
END:VEVENT
BEGIN:VEVENT
DTSTART;VALUE=DATE:20220429
DTEND;VALUE=DATE:20220430
DTSTAMP:20260421T160327
CREATED:20220412T153313Z
LAST-MODIFIED:20220412T153313Z
UID:1702-1651190400-1651276799@prestonseniors.org
SUMMARY:Lunch Menu
DESCRIPTION:CABBAGE ROLLS\nMASHED POTATOES\nGREEN BEANS\nFRUIT\nBREAD
URL:https://prestonseniors.org/event/lunch-menu-419/
CATEGORIES:Menu
END:VEVENT
BEGIN:VEVENT
DTSTART;VALUE=DATE:20220428
DTEND;VALUE=DATE:20220429
DTSTAMP:20260421T160327
CREATED:20220412T153230Z
LAST-MODIFIED:20220412T153230Z
UID:1700-1651104000-1651190399@prestonseniors.org
SUMMARY:Lunch Menu
DESCRIPTION:HAM\, TURKEY & CHEESE SANDWICH\nCUCUMBER & ONION SALAD\nFRUIT\nCHIPS\nNEWBURG
URL:https://prestonseniors.org/event/lunch-menu-418/
CATEGORIES:Menu
END:VEVENT
BEGIN:VEVENT
DTSTART;VALUE=DATE:20220427
DTEND;VALUE=DATE:20220428
DTSTAMP:20260421T160327
CREATED:20220412T154137Z
LAST-MODIFIED:20220412T154137Z
UID:1709-1651017600-1651103999@prestonseniors.org
SUMMARY:Shopping Trips Valley Tunnelton Newburg
DESCRIPTION:Shopping Trips Valley Tunnelton Newburg
URL:https://prestonseniors.org/event/shopping-trips-valley-tunnelton-newburg/
CATEGORIES:Activities
END:VEVENT
BEGIN:VEVENT
DTSTART;VALUE=DATE:20220426
DTEND;VALUE=DATE:20220427
DTSTAMP:20260421T160327
CREATED:20220412T153158Z
LAST-MODIFIED:20220412T153158Z
UID:1698-1650931200-1651017599@prestonseniors.org
SUMMARY:Lunch Menu
DESCRIPTION:CHICKEN STRIPS\nMACARONI & CHEESE\nPEAS\nFRUIT\nBREAD
URL:https://prestonseniors.org/event/lunch-menu-417/
CATEGORIES:Menu
END:VEVENT
BEGIN:VEVENT
DTSTART;VALUE=DATE:20220425
DTEND;VALUE=DATE:20220426
DTSTAMP:20260421T160327
CREATED:20220412T153131Z
LAST-MODIFIED:20220412T153131Z
UID:1696-1650844800-1650931199@prestonseniors.org
SUMMARY:Lunch Menu
DESCRIPTION:HOT DOG\nW/ MEAT SAUCE\nBAKED BEANS\nCOLESLAW\nFRUIT
URL:https://prestonseniors.org/event/lunch-menu-416/
CATEGORIES:Menu
END:VEVENT
BEGIN:VEVENT
DTSTART;VALUE=DATE:20220422
DTEND;VALUE=DATE:20220423
DTSTAMP:20260421T160327
CREATED:20220412T153106Z
LAST-MODIFIED:20220412T153106Z
UID:1694-1650585600-1650671999@prestonseniors.org
SUMMARY:Lunch Menu
DESCRIPTION:CHEF SALAD\nBAKED POTATO\nCOOKIE\nCRACKERS
URL:https://prestonseniors.org/event/lunch-menu-415/
CATEGORIES:Menu
END:VEVENT
BEGIN:VEVENT
DTSTART;VALUE=DATE:20220421
DTEND;VALUE=DATE:20220422
DTSTAMP:20260421T160327
CREATED:20220412T153027Z
LAST-MODIFIED:20220412T153027Z
UID:1692-1650499200-1650585599@prestonseniors.org
SUMMARY:Lunch Menu
DESCRIPTION:BEEF MACARONI\nCORN\nFRUIT\nBREAD\nTERRA ALTA
URL:https://prestonseniors.org/event/lunch-menu-414/
CATEGORIES:Menu
END:VEVENT
BEGIN:VEVENT
DTSTART;VALUE=DATE:20220420
DTEND;VALUE=DATE:20220421
DTSTAMP:20260421T160327
CREATED:20220412T155338Z
LAST-MODIFIED:20220412T155338Z
UID:1736-1650412800-1650499199@prestonseniors.org
SUMMARY:PRESTON COUNTY DIABETES EDUCATION & SUPPORT GROUP
DESCRIPTION:
URL:https://prestonseniors.org/event/preston-county-diabetes-education-support-group/2022-04-20/
CATEGORIES:Activities
END:VEVENT
BEGIN:VEVENT
DTSTART;TZID=UTC:20220419T100000
DTEND;TZID=UTC:20220419T110000
DTSTAMP:20260421T160327
CREATED:20220412T154714Z
LAST-MODIFIED:20220412T154714Z
UID:1711-1650362400-1650366000@prestonseniors.org
SUMMARY:BINGOCIZE Kingwood Senior Center
DESCRIPTION:
URL:https://prestonseniors.org/event/bingocize-kingwood-senior-center/2022-04-19/
CATEGORIES:Activities
END:VEVENT
BEGIN:VEVENT
DTSTART;VALUE=DATE:20220419
DTEND;VALUE=DATE:20220420
DTSTAMP:20260421T160327
CREATED:20220412T152950Z
LAST-MODIFIED:20220412T152950Z
UID:1690-1650326400-1650412799@prestonseniors.org
SUMMARY:Lunch Menu
DESCRIPTION:HAM\, CABBAGE\, & POTATOES\nCARROTS\nFRUIT\nBREAD\nKINGWOOD
URL:https://prestonseniors.org/event/lunch-menu-413/
CATEGORIES:Menu
END:VEVENT
BEGIN:VEVENT
DTSTART;VALUE=DATE:20220418
DTEND;VALUE=DATE:20220419
DTSTAMP:20260421T160327
CREATED:20220412T152927Z
LAST-MODIFIED:20220412T152927Z
UID:1688-1650240000-1650326399@prestonseniors.org
SUMMARY:Lunch Menu
DESCRIPTION:SWEDISH MEATBALLS\nW/ NOODLES\nBROCCOLI/CAULIFLOWER\nFRUIT\nBREAD
URL:https://prestonseniors.org/event/lunch-menu-412/
CATEGORIES:Menu
END:VEVENT
BEGIN:VEVENT
DTSTART;VALUE=DATE:20220415
DTEND;VALUE=DATE:20220416
DTSTAMP:20260421T160327
CREATED:20220412T152844Z
LAST-MODIFIED:20220412T152844Z
UID:1686-1649980800-1650067199@prestonseniors.org
SUMMARY:Lunch Menu
DESCRIPTION:CLOSED GOOD FRIDAY
URL:https://prestonseniors.org/event/lunch-menu-411/
CATEGORIES:Menu
END:VEVENT
BEGIN:VEVENT
DTSTART;VALUE=DATE:20220414
DTEND;VALUE=DATE:20220415
DTSTAMP:20260421T160327
CREATED:20220412T152815Z
LAST-MODIFIED:20220412T152815Z
UID:1684-1649894400-1649980799@prestonseniors.org
SUMMARY:Lunch Menu
DESCRIPTION:EASTER DINNER\nHAM\nSWEET POTATOES\nGREEN BEANS\nPIE & ROLL\nUNION DISTRICT
URL:https://prestonseniors.org/event/lunch-menu-410/
CATEGORIES:Menu
END:VEVENT
BEGIN:VEVENT
DTSTART;VALUE=DATE:20220413
DTEND;VALUE=DATE:20220414
DTSTAMP:20260421T160327
CREATED:20220412T154114Z
LAST-MODIFIED:20220412T154114Z
UID:1707-1649808000-1649894399@prestonseniors.org
SUMMARY:Shopping Trips Terra Alta North Preston Rowlesburg
DESCRIPTION:
URL:https://prestonseniors.org/event/shopping-trips-terra-alta-north-preston-rowlesburg/
CATEGORIES:Activities
END:VEVENT
BEGIN:VEVENT
DTSTART;VALUE=DATE:20220412
DTEND;VALUE=DATE:20220413
DTSTAMP:20260421T160327
CREATED:20220412T152737Z
LAST-MODIFIED:20220412T152737Z
UID:1682-1649721600-1649807999@prestonseniors.org
SUMMARY:Lunch Menu
DESCRIPTION:HAMBURGER\nLETTUCE & TOMATO\nMACARONI SALAD\nFRUIT\nTUNNELTON
URL:https://prestonseniors.org/event/lunch-menu-409/
CATEGORIES:Menu
END:VEVENT
BEGIN:VEVENT
DTSTART;VALUE=DATE:20220411
DTEND;VALUE=DATE:20220412
DTSTAMP:20260421T160327
CREATED:20220412T152709Z
LAST-MODIFIED:20220412T152709Z
UID:1680-1649635200-1649721599@prestonseniors.org
SUMMARY:Lunch Menu
DESCRIPTION:HOBO BEANS\nCORNBREAD\nSPINACH\nFRUIT\nBREAD
URL:https://prestonseniors.org/event/lunch-menu-408/
CATEGORIES:Menu
END:VEVENT
BEGIN:VEVENT
DTSTART;VALUE=DATE:20220408
DTEND;VALUE=DATE:20220409
DTSTAMP:20260421T160327
CREATED:20220412T152636Z
LAST-MODIFIED:20220412T152636Z
UID:1678-1649376000-1649462399@prestonseniors.org
SUMMARY:Lunch Menu
DESCRIPTION:FISH\nSTEWED TOMATOES\nMIXED GREENS\nFRUIT\nWHOLE WHEAT BREAD
URL:https://prestonseniors.org/event/lunch-menu-407/
CATEGORIES:Menu
END:VEVENT
BEGIN:VEVENT
DTSTART;VALUE=DATE:20220407
DTEND;VALUE=DATE:20220408
DTSTAMP:20260421T160327
CREATED:20220412T152612Z
LAST-MODIFIED:20220412T152612Z
UID:1676-1649289600-1649375999@prestonseniors.org
SUMMARY:Lunch Menu
DESCRIPTION:PASTA W/ MEATBALLS\nCAUIFLOWER\nFRUIT\nBREAD
URL:https://prestonseniors.org/event/lunch-menu-406/
CATEGORIES:Menu
END:VEVENT
BEGIN:VEVENT
DTSTART;VALUE=DATE:20220406
DTEND;VALUE=DATE:20220407
DTSTAMP:20260421T160327
CREATED:20220412T153937Z
LAST-MODIFIED:20220412T154002Z
UID:1704-1649203200-1649289599@prestonseniors.org
SUMMARY:Shopping Trips Kingwood Aurora
DESCRIPTION:Shopping Trips Kingwood Aurora
URL:https://prestonseniors.org/event/activities/
CATEGORIES:Activities
END:VEVENT
BEGIN:VEVENT
DTSTART;VALUE=DATE:20220406
DTEND;VALUE=DATE:20220407
DTSTAMP:20260421T160327
CREATED:20220412T152437Z
LAST-MODIFIED:20220412T152437Z
UID:1671-1649203200-1649289599@prestonseniors.org
SUMMARY:Lunch Menu
DESCRIPTION:Second Serving\nat Kingwood Center Only
URL:https://prestonseniors.org/event/lunch-menu-405/2022-04-06/
CATEGORIES:Menu
END:VEVENT
BEGIN:VEVENT
DTSTART;VALUE=DATE:20220405
DTEND;VALUE=DATE:20220406
DTSTAMP:20260421T160327
CREATED:20220412T152330Z
LAST-MODIFIED:20220412T152330Z
UID:1669-1649116800-1649203199@prestonseniors.org
SUMMARY:Lunch Menu
DESCRIPTION:CHICKEN SALAD SANDWICH\nCHIPS\nCOTTAGE CHEESE\nFRUIT\nNORTH PRESTON
URL:https://prestonseniors.org/event/lunch-menu-404/
CATEGORIES:Menu
END:VEVENT
BEGIN:VEVENT
DTSTART;VALUE=DATE:20220404
DTEND;VALUE=DATE:20220405
DTSTAMP:20260421T160327
CREATED:20220412T152305Z
LAST-MODIFIED:20220412T152305Z
UID:1667-1649030400-1649116799@prestonseniors.org
SUMMARY:Lunch Menu
DESCRIPTION:BBQ PORK SANDWICH\nCOLESLAW\nPEAS\nFRUIT\nBREAD
URL:https://prestonseniors.org/event/lunch-menu-403/
CATEGORIES:Menu
END:VEVENT
BEGIN:VEVENT
DTSTART;VALUE=DATE:20220401
DTEND;VALUE=DATE:20220402
DTSTAMP:20260421T160327
CREATED:20220412T152220Z
LAST-MODIFIED:20220412T152220Z
UID:1665-1648771200-1648857599@prestonseniors.org
SUMMARY:Lunch Menu
DESCRIPTION:TUNA SALAD SANDWICH\nBEETS\nFRUIT\nROWLESBURG
URL:https://prestonseniors.org/event/lunch-menu-402/
CATEGORIES:Menu
END:VEVENT
BEGIN:VEVENT
DTSTART;VALUE=DATE:20220331
DTEND;VALUE=DATE:20220401
DTSTAMP:20260421T160327
CREATED:20220113T170929Z
LAST-MODIFIED:20220113T170929Z
UID:1622-1648684800-1648771199@prestonseniors.org
SUMMARY:Lunch Menu
DESCRIPTION:BBQ CHICKEN\nSCALLOPED POTATOES\nBRUSSEL SPROUTS\nFRUIT\nWHOLE WHEAT BREAD
URL:https://prestonseniors.org/event/lunch-menu-400/
CATEGORIES:Menu
END:VEVENT
BEGIN:VEVENT
DTSTART;VALUE=DATE:20220329
DTEND;VALUE=DATE:20220330
DTSTAMP:20260421T160327
CREATED:20220113T170906Z
LAST-MODIFIED:20220113T170906Z
UID:1620-1648512000-1648598399@prestonseniors.org
SUMMARY:Lunch Menu
DESCRIPTION:CHILI\nCORNBREAD\nCORN\nFRUIT
URL:https://prestonseniors.org/event/lunch-menu-399/
CATEGORIES:Menu
END:VEVENT
BEGIN:VEVENT
DTSTART;VALUE=DATE:20220328
DTEND;VALUE=DATE:20220329
DTSTAMP:20260421T160327
CREATED:20220113T170842Z
LAST-MODIFIED:20220113T170842Z
UID:1618-1648425600-1648511999@prestonseniors.org
SUMMARY:Lunch Menu
DESCRIPTION:STUFFED PEPPERS\nMASHED POTATOES\nFRUIT\nCORN\nWHOLE WHEAT BREAD
URL:https://prestonseniors.org/event/lunch-menu-398/
CATEGORIES:Menu
END:VEVENT
BEGIN:VEVENT
DTSTART;VALUE=DATE:20220325
DTEND;VALUE=DATE:20220326
DTSTAMP:20260421T160327
CREATED:20220113T170821Z
LAST-MODIFIED:20220113T170821Z
UID:1616-1648166400-1648252799@prestonseniors.org
SUMMARY:Lunch Menu
DESCRIPTION:SALMON PATTY\nSPINACH\nSTEWED TOMATOES\nFRUIT\nWHOLE WHEAT BREAD
URL:https://prestonseniors.org/event/lunch-menu-397/
CATEGORIES:Menu
END:VEVENT
BEGIN:VEVENT
DTSTART;VALUE=DATE:20220324
DTEND;VALUE=DATE:20220325
DTSTAMP:20260421T160327
CREATED:20220113T170756Z
LAST-MODIFIED:20220113T170756Z
UID:1614-1648080000-1648166399@prestonseniors.org
SUMMARY:Lunch Menu
DESCRIPTION:CHICKEN TENDERS\nMACARONI & CHEESE\nPEAS\nFRUIT\nWHOLE WHEAT BREAD\nNEWBURG
URL:https://prestonseniors.org/event/lunch-menu-396/
CATEGORIES:Menu
END:VEVENT
BEGIN:VEVENT
DTSTART;VALUE=DATE:20220322
DTEND;VALUE=DATE:20220323
DTSTAMP:20260421T160327
CREATED:20220113T170728Z
LAST-MODIFIED:20220113T170728Z
UID:1612-1647907200-1647993599@prestonseniors.org
SUMMARY:Lunch Menu
DESCRIPTION:SALISBURY STEAK\nMASHED POTATOES\nGREEN BEANS\nFRUIT\nWHOLE WHEAT BREAD
URL:https://prestonseniors.org/event/lunch-menu-395/
CATEGORIES:Menu
END:VEVENT
END:VCALENDAR