BEGIN:VCALENDAR
VERSION:2.0
PRODID:-//Preston County Senior Citizens, Inc. - ECPv6.15.20//NONSGML v1.0//EN
CALSCALE:GREGORIAN
METHOD:PUBLISH
X-WR-CALNAME:Preston County Senior Citizens, Inc.
X-ORIGINAL-URL:https://prestonseniors.org
X-WR-CALDESC:Events for Preston County Senior Citizens, Inc.
REFRESH-INTERVAL;VALUE=DURATION:PT1H
X-Robots-Tag:noindex
X-PUBLISHED-TTL:PT1H
BEGIN:VTIMEZONE
TZID:UTC
BEGIN:STANDARD
TZOFFSETFROM:+0000
TZOFFSETTO:+0000
TZNAME:UTC
DTSTART:20210101T000000
END:STANDARD
END:VTIMEZONE
BEGIN:VEVENT
DTSTART;VALUE=DATE:20220610
DTEND;VALUE=DATE:20220611
DTSTAMP:20260421T062022
CREATED:20220526T125220Z
LAST-MODIFIED:20220526T125220Z
UID:1832-1654819200-1654905599@prestonseniors.org
SUMMARY:Lunch Menu
DESCRIPTION:CHILI\nCORNBREAD\nCOLESLAW\nFRUIT
URL:https://prestonseniors.org/event/lunch-menu-448/
CATEGORIES:Menu
END:VEVENT
BEGIN:VEVENT
DTSTART;VALUE=DATE:20220609
DTEND;VALUE=DATE:20220610
DTSTAMP:20260421T062022
CREATED:20220526T125152Z
LAST-MODIFIED:20220526T125152Z
UID:1830-1654732800-1654819199@prestonseniors.org
SUMMARY:Lunch Menu
DESCRIPTION:BBQ CHICKEN\nAU GRATIN POTATOES\nGREEN BEANS\nFRUIT\nWHOLE WHEAT BREAD\nUNION DISTRICT
URL:https://prestonseniors.org/event/lunch-menu-447/
CATEGORIES:Menu
END:VEVENT
BEGIN:VEVENT
DTSTART;VALUE=DATE:20220608
DTEND;VALUE=DATE:20220609
DTSTAMP:20260421T062022
CREATED:20220526T130149Z
LAST-MODIFIED:20220526T130149Z
UID:1858-1654646400-1654732799@prestonseniors.org
SUMMARY:Shopping Trips Newburg North Preston Rowlesburg
DESCRIPTION:Shopping Trips\nNewburg\nNorth Preston\nRowlesburg
URL:https://prestonseniors.org/event/shopping-trips-newburg-north-preston-rowlesburg/
CATEGORIES:Activities
END:VEVENT
BEGIN:VEVENT
DTSTART;VALUE=DATE:20220608
DTEND;VALUE=DATE:20220609
DTSTAMP:20260421T062022
CREATED:20220526T125102Z
LAST-MODIFIED:20220526T125102Z
UID:1825-1654646400-1654732799@prestonseniors.org
SUMMARY:Lunch Menu
DESCRIPTION:Second Serving\nat Kingwood Center Only
URL:https://prestonseniors.org/event/lunch-menu-446/2022-06-08/
CATEGORIES:Menu
END:VEVENT
BEGIN:VEVENT
DTSTART;VALUE=DATE:20220607
DTEND;VALUE=DATE:20220608
DTSTAMP:20260421T062022
CREATED:20220526T125019Z
LAST-MODIFIED:20220526T125019Z
UID:1823-1654560000-1654646399@prestonseniors.org
SUMMARY:Lunch Menu
DESCRIPTION:BEEF STEW\nBISCUIT\nBEETS\nFRUIT\nNORTH PRESTON
URL:https://prestonseniors.org/event/lunch-menu-445/
CATEGORIES:Menu
END:VEVENT
BEGIN:VEVENT
DTSTART;VALUE=DATE:20220606
DTEND;VALUE=DATE:20220607
DTSTAMP:20260421T062022
CREATED:20220526T124951Z
LAST-MODIFIED:20220526T124951Z
UID:1821-1654473600-1654559999@prestonseniors.org
SUMMARY:Lunch Menu
DESCRIPTION:TUNA & NOODLES\nBROCCOLI\nFRUIT\nWHOLE WHEAT BREAD
URL:https://prestonseniors.org/event/lunch-menu-444/
CATEGORIES:Menu
END:VEVENT
BEGIN:VEVENT
DTSTART;VALUE=DATE:20220603
DTEND;VALUE=DATE:20220604
DTSTAMP:20260421T062022
CREATED:20220526T124927Z
LAST-MODIFIED:20220526T124927Z
UID:1819-1654214400-1654300799@prestonseniors.org
SUMMARY:Lunch Menu
DESCRIPTION:CHICKEN TENDERS\nMACARONI & CHEESE\nPEAS\nFRUIT\nWHOLE WHEAT BREAD\nROWLESBURG
URL:https://prestonseniors.org/event/lunch-menu-443/
CATEGORIES:Menu
END:VEVENT
BEGIN:VEVENT
DTSTART;VALUE=DATE:20220602
DTEND;VALUE=DATE:20220603
DTSTAMP:20260421T062022
CREATED:20220526T124821Z
LAST-MODIFIED:20220526T124821Z
UID:1817-1654128000-1654214399@prestonseniors.org
SUMMARY:Lunch Menu
DESCRIPTION:KIELBASA SAUERKRAUT\nMASHED POTATOES\nFRUIT\nWHOLE WHEAT BREAD
URL:https://prestonseniors.org/event/lunch-menu-442/
CATEGORIES:Menu
END:VEVENT
BEGIN:VEVENT
DTSTART;VALUE=DATE:20220601
DTEND;VALUE=DATE:20220602
DTSTAMP:20260421T062022
CREATED:20220526T130112Z
LAST-MODIFIED:20220526T130112Z
UID:1856-1654041600-1654127999@prestonseniors.org
SUMMARY:Shopping Trips Kingwood Aurora
DESCRIPTION:Shopping Trips\nKingwood\nAurora
URL:https://prestonseniors.org/event/shopping-trips-kingwood-aurora/
CATEGORIES:Activities
END:VEVENT
BEGIN:VEVENT
DTSTART;VALUE=DATE:20220601
DTEND;VALUE=DATE:20220602
DTSTAMP:20260421T062022
CREATED:20220526T124727Z
LAST-MODIFIED:20220526T124727Z
UID:1815-1654041600-1654127999@prestonseniors.org
SUMMARY:Lunch Menu
DESCRIPTION:Second Serving\nat Kingwood Center Only
URL:https://prestonseniors.org/event/lunch-menu-441/
CATEGORIES:Menu
END:VEVENT
BEGIN:VEVENT
DTSTART;TZID=UTC:20220531T080000
DTEND;TZID=UTC:20220531T170000
DTSTAMP:20260421T062022
CREATED:20220503T184352Z
LAST-MODIFIED:20220503T184352Z
UID:1795-1653984000-1654016400@prestonseniors.org
SUMMARY:Lunch Menu
DESCRIPTION:Chicken Salad Sandwich Cottage Cheese Potato Chips\nFruit
URL:https://prestonseniors.org/event/lunch-menu-440/
CATEGORIES:Menu
END:VEVENT
BEGIN:VEVENT
DTSTART;TZID=UTC:20220530T080000
DTEND;TZID=UTC:20220530T170000
DTSTAMP:20260421T062022
CREATED:20220503T184324Z
LAST-MODIFIED:20220503T184324Z
UID:1793-1653897600-1653930000@prestonseniors.org
SUMMARY:Memorial Day
DESCRIPTION:We are closed for Memorial Day
URL:https://prestonseniors.org/event/memorial-day/
CATEGORIES:Activities,Menu
END:VEVENT
BEGIN:VEVENT
DTSTART;TZID=UTC:20220527T080000
DTEND;TZID=UTC:20220527T170000
DTSTAMP:20260421T062022
CREATED:20220503T184235Z
LAST-MODIFIED:20220503T184235Z
UID:1791-1653638400-1653670800@prestonseniors.org
SUMMARY:Lunch Menu
DESCRIPTION:Pork Chops Mashed Potatoes w/ Gravy Corn\nFruit\nWhole Wheat Bread
URL:https://prestonseniors.org/event/lunch-menu-439/
CATEGORIES:Menu
END:VEVENT
BEGIN:VEVENT
DTSTART;TZID=UTC:20220526T080000
DTEND;TZID=UTC:20220526T170000
DTSTAMP:20260421T062022
CREATED:20220503T184215Z
LAST-MODIFIED:20220503T184215Z
UID:1789-1653552000-1653584400@prestonseniors.org
SUMMARY:Lunch Menu
DESCRIPTION:Sloppy Joe Baked Beans Mixed Veggies Fruit
URL:https://prestonseniors.org/event/lunch-menu-438/
CATEGORIES:Menu
END:VEVENT
BEGIN:VEVENT
DTSTART;TZID=UTC:20220525T080000
DTEND;TZID=UTC:20220525T170000
DTSTAMP:20260421T062022
CREATED:20220503T184052Z
LAST-MODIFIED:20220503T184052Z
UID:1787-1653465600-1653498000@prestonseniors.org
SUMMARY:Lunch Menu
DESCRIPTION:Second Serving\nat Kingwood Center Only
URL:https://prestonseniors.org/event/lunch-menu-437/
CATEGORIES:Menu
END:VEVENT
BEGIN:VEVENT
DTSTART;TZID=UTC:20220525T080000
DTEND;TZID=UTC:20220525T170000
DTSTAMP:20260421T062022
CREATED:20220503T184031Z
LAST-MODIFIED:20220503T184031Z
UID:1785-1653465600-1653498000@prestonseniors.org
SUMMARY:Shopping Trips
DESCRIPTION:Shopping Trips Valley Tunnelton
URL:https://prestonseniors.org/event/shopping-trips-3/
CATEGORIES:Activities
END:VEVENT
BEGIN:VEVENT
DTSTART;TZID=UTC:20220524T080000
DTEND;TZID=UTC:20220524T170000
DTSTAMP:20260421T062022
CREATED:20220503T184008Z
LAST-MODIFIED:20220503T184140Z
UID:1783-1653379200-1653411600@prestonseniors.org
SUMMARY:Lunch Menu
DESCRIPTION:Hobo Beans Cornbread Cauliflower Fruit\nWhole Wheat Bread
URL:https://prestonseniors.org/event/lunch-menu-436/
CATEGORIES:Menu
END:VEVENT
BEGIN:VEVENT
DTSTART;TZID=UTC:20220523T080000
DTEND;TZID=UTC:20220523T170000
DTSTAMP:20260421T062022
CREATED:20220503T183947Z
LAST-MODIFIED:20220503T183947Z
UID:1781-1653292800-1653325200@prestonseniors.org
SUMMARY:Lunch Menu
DESCRIPTION:Fish\nStewed Tomatoes Brussel Sprouts Fruit\nWhole Wheat Bread
URL:https://prestonseniors.org/event/lunch-menu-435/
CATEGORIES:Menu
END:VEVENT
BEGIN:VEVENT
DTSTART;TZID=UTC:20220520T080000
DTEND;TZID=UTC:20220520T170000
DTSTAMP:20260421T062022
CREATED:20220503T183918Z
LAST-MODIFIED:20220503T183918Z
UID:1779-1653033600-1653066000@prestonseniors.org
SUMMARY:Lunch Menu
DESCRIPTION:Taco Salad Tortilla Chips Black Beans Fruit
URL:https://prestonseniors.org/event/lunch-menu-434/
CATEGORIES:Menu
END:VEVENT
BEGIN:VEVENT
DTSTART;TZID=UTC:20220519T080000
DTEND;TZID=UTC:20220519T170000
DTSTAMP:20260421T062022
CREATED:20220503T183852Z
LAST-MODIFIED:20220503T183852Z
UID:1777-1652947200-1652979600@prestonseniors.org
SUMMARY:Lunch Menu
DESCRIPTION:Stuffed Peppers Mashed Potatoes Green Beans Fruit\nWhole Wheat Bread
URL:https://prestonseniors.org/event/lunch-menu-433/
CATEGORIES:Menu
END:VEVENT
BEGIN:VEVENT
DTSTART;TZID=UTC:20220518T080000
DTEND;TZID=UTC:20220518T170000
DTSTAMP:20260421T062022
CREATED:20220503T183823Z
LAST-MODIFIED:20220503T183823Z
UID:1775-1652860800-1652893200@prestonseniors.org
SUMMARY:Lunch Menu
DESCRIPTION:Second Serving\nat Kingwood Center Only
URL:https://prestonseniors.org/event/lunch-menu-432/
CATEGORIES:Menu
END:VEVENT
BEGIN:VEVENT
DTSTART;TZID=UTC:20220517T080000
DTEND;TZID=UTC:20220517T170000
DTSTAMP:20260421T062022
CREATED:20220503T183759Z
LAST-MODIFIED:20220503T183759Z
UID:1773-1652774400-1652806800@prestonseniors.org
SUMMARY:Lunch Menu
DESCRIPTION:Chicken Alfredo Broccoli\nFruit\nWhole Wheat Bread
URL:https://prestonseniors.org/event/lunch-menu-431/
CATEGORIES:Menu
END:VEVENT
BEGIN:VEVENT
DTSTART;TZID=UTC:20220516T080000
DTEND;TZID=UTC:20220516T170000
DTSTAMP:20260421T062022
CREATED:20220503T183740Z
LAST-MODIFIED:20220503T183740Z
UID:1771-1652688000-1652720400@prestonseniors.org
SUMMARY:Lunch Menu
DESCRIPTION:BBQ Pork Sandwich Coleslaw\nPeas\nFruit
URL:https://prestonseniors.org/event/lunch-menu-430/
CATEGORIES:Menu
END:VEVENT
BEGIN:VEVENT
DTSTART;TZID=UTC:20220513T080000
DTEND;TZID=UTC:20220513T170000
DTSTAMP:20260421T062022
CREATED:20220503T183708Z
LAST-MODIFIED:20220503T183708Z
UID:1769-1652428800-1652461200@prestonseniors.org
SUMMARY:Lunch Menu
DESCRIPTION:Country Fried Steak w/ Gravy Mashed Potatoes\nCorn\nFruit\nWhole Wheat Bread
URL:https://prestonseniors.org/event/lunch-menu-429/
CATEGORIES:Menu
END:VEVENT
BEGIN:VEVENT
DTSTART;TZID=UTC:20220512T080000
DTEND;TZID=UTC:20220512T170000
DTSTAMP:20260421T062022
CREATED:20220503T183557Z
LAST-MODIFIED:20220503T183557Z
UID:1765-1652342400-1652374800@prestonseniors.org
SUMMARY:Lunch Menu
DESCRIPTION:Tuna & Noodles Broccoli\nFruit\nWhole Wheat Bread
URL:https://prestonseniors.org/event/lunch-menu-427/
CATEGORIES:Menu
END:VEVENT
BEGIN:VEVENT
DTSTART;TZID=UTC:20220511T080000
DTEND;TZID=UTC:20220511T170000
DTSTAMP:20260421T062022
CREATED:20220503T183630Z
LAST-MODIFIED:20220503T183630Z
UID:1767-1652256000-1652288400@prestonseniors.org
SUMMARY:Lunch Menu
DESCRIPTION:Second Serving\nat Kingwood Center Only
URL:https://prestonseniors.org/event/lunch-menu-428/
CATEGORIES:Menu
END:VEVENT
BEGIN:VEVENT
DTSTART;TZID=UTC:20220511T080000
DTEND;TZID=UTC:20220511T170000
DTSTAMP:20260421T062022
CREATED:20220503T183522Z
LAST-MODIFIED:20220503T183522Z
UID:1761-1652256000-1652288400@prestonseniors.org
SUMMARY:Shopping Trips
DESCRIPTION:Shopping Trips Newburg\nNorth Preston Rowlesburg\, Terra Alta
URL:https://prestonseniors.org/event/shopping-trips-2/
CATEGORIES:Activities
END:VEVENT
BEGIN:VEVENT
DTSTART;TZID=UTC:20220510T080000
DTEND;TZID=UTC:20220510T170000
DTSTAMP:20260421T062022
CREATED:20220503T183452Z
LAST-MODIFIED:20220503T183452Z
UID:1759-1652169600-1652202000@prestonseniors.org
SUMMARY:Lunch Menu
DESCRIPTION:Meatball Hoagie w/ Marinara Peas Potato Chips
URL:https://prestonseniors.org/event/lunch-menu-425/
CATEGORIES:Menu
END:VEVENT
BEGIN:VEVENT
DTSTART;TZID=UTC:20220509T080000
DTEND;TZID=UTC:20220509T170000
DTSTAMP:20260421T062022
CREATED:20220503T183432Z
LAST-MODIFIED:20220503T183432Z
UID:1757-1652083200-1652115600@prestonseniors.org
SUMMARY:Lunch Menu
DESCRIPTION:Cabbage Rolls Mashed Potatoes Corn\nFruit\nWhole Wheat Bread
URL:https://prestonseniors.org/event/lunch-menu-424/
CATEGORIES:Menu
END:VEVENT
BEGIN:VEVENT
DTSTART;TZID=UTC:20220506T080000
DTEND;TZID=UTC:20220506T170000
DTSTAMP:20260421T062022
CREATED:20220503T183343Z
LAST-MODIFIED:20220503T183343Z
UID:1755-1651824000-1651856400@prestonseniors.org
SUMMARY:Lunch Menu
DESCRIPTION:Grilled BBQ Chicken Au Gratin Potatoes Green Beans Fruit\nWhole Wheat Bread
URL:https://prestonseniors.org/event/lunch-menu-423/
CATEGORIES:Menu
END:VEVENT
END:VCALENDAR