BEGIN:VCALENDAR
VERSION:2.0
PRODID:-//Preston County Senior Citizens, Inc. - ECPv6.15.20//NONSGML v1.0//EN
CALSCALE:GREGORIAN
METHOD:PUBLISH
X-ORIGINAL-URL:https://prestonseniors.org
X-WR-CALDESC:Events for Preston County Senior Citizens, Inc.
REFRESH-INTERVAL;VALUE=DURATION:PT1H
X-Robots-Tag:noindex
X-PUBLISHED-TTL:PT1H
BEGIN:VTIMEZONE
TZID:UTC
BEGIN:STANDARD
TZOFFSETFROM:+0000
TZOFFSETTO:+0000
TZNAME:UTC
DTSTART:20210101T000000
END:STANDARD
END:VTIMEZONE
BEGIN:VEVENT
DTSTART;VALUE=DATE:20220920
DTEND;VALUE=DATE:20220921
DTSTAMP:20260420T151510
CREATED:20220907T152428Z
LAST-MODIFIED:20220907T152428Z
UID:1971-1663632000-1663718399@prestonseniors.org
SUMMARY:Lunch Menu
DESCRIPTION:BURRITO\nBLACK BEANS\nCORN\nFRUIT
URL:https://prestonseniors.org/event/lunch-menu-488/
CATEGORIES:Menu
END:VEVENT
BEGIN:VEVENT
DTSTART;VALUE=DATE:20220919
DTEND;VALUE=DATE:20220920
DTSTAMP:20260420T151510
CREATED:20220907T152359Z
LAST-MODIFIED:20220907T152359Z
UID:1969-1663545600-1663631999@prestonseniors.org
SUMMARY:Lunch Menu
DESCRIPTION:TUNA & NOODLES W/ PEAS\nCARROTS\nFRUIT\nWHOLE WHEAT BREAD
URL:https://prestonseniors.org/event/lunch-menu-487/
CATEGORIES:Menu
END:VEVENT
BEGIN:VEVENT
DTSTART;VALUE=DATE:20220916
DTEND;VALUE=DATE:20220917
DTSTAMP:20260420T151510
CREATED:20220907T152334Z
LAST-MODIFIED:20220907T152334Z
UID:1967-1663286400-1663372799@prestonseniors.org
SUMMARY:Lunch Menu
DESCRIPTION:CHICKEN TENDERS\nMACARONI & CHEESE\nPEAS\nFRUIT\nWHOLE WHEAT BREAD
URL:https://prestonseniors.org/event/lunch-menu-486/
CATEGORIES:Menu
END:VEVENT
BEGIN:VEVENT
DTSTART;VALUE=DATE:20220915
DTEND;VALUE=DATE:20220916
DTSTAMP:20260420T151510
CREATED:20220907T152305Z
LAST-MODIFIED:20220907T152305Z
UID:1965-1663200000-1663286399@prestonseniors.org
SUMMARY:Lunch Menu
DESCRIPTION:BEANS\nCORNBREAD\nSPINACH\nFRUIT
URL:https://prestonseniors.org/event/lunch-menu-485/
CATEGORIES:Menu
END:VEVENT
BEGIN:VEVENT
DTSTART;VALUE=DATE:20220914
DTEND;VALUE=DATE:20220915
DTSTAMP:20260420T151510
CREATED:20220907T152952Z
LAST-MODIFIED:20220907T152952Z
UID:1987-1663113600-1663199999@prestonseniors.org
SUMMARY:Shopping Trips Newburg North Preston Rowlesburg
DESCRIPTION:Shopping Trips\nNewburg\nNorth Preston\nRowlesburg
URL:https://prestonseniors.org/event/shopping-trips-newburg-north-preston-rowlesburg-3/
CATEGORIES:Activities
END:VEVENT
BEGIN:VEVENT
DTSTART;VALUE=DATE:20220913
DTEND;VALUE=DATE:20220914
DTSTAMP:20260420T151510
CREATED:20220907T152233Z
LAST-MODIFIED:20220907T152233Z
UID:1963-1663027200-1663113599@prestonseniors.org
SUMMARY:Lunch Menu
DESCRIPTION:STUFFED PEPPERS\nMASHED POTATOES\nCORN\nFRUIT\nWHOLE WHEAT BREAD
URL:https://prestonseniors.org/event/lunch-menu-484/
CATEGORIES:Menu
END:VEVENT
BEGIN:VEVENT
DTSTART;VALUE=DATE:20220912
DTEND;VALUE=DATE:20220913
DTSTAMP:20260420T151510
CREATED:20220907T152210Z
LAST-MODIFIED:20220907T152210Z
UID:1961-1662940800-1663027199@prestonseniors.org
SUMMARY:Lunch Menu
DESCRIPTION:HAMBURGER\nLETTUCE/TOMATO\nFRENCH FRIES\nFRUIT
URL:https://prestonseniors.org/event/lunch-menu-483/
CATEGORIES:Menu
END:VEVENT
BEGIN:VEVENT
DTSTART;VALUE=DATE:20220909
DTEND;VALUE=DATE:20220910
DTSTAMP:20260420T151510
CREATED:20220907T152145Z
LAST-MODIFIED:20220907T152145Z
UID:1959-1662681600-1662767999@prestonseniors.org
SUMMARY:Lunch Menu
DESCRIPTION:CHICKEN ALFREDO\nBROCCOLI\nFRUIT\nWHOLE WHEAT BREAD
URL:https://prestonseniors.org/event/lunch-menu-482/
CATEGORIES:Menu
END:VEVENT
BEGIN:VEVENT
DTSTART;VALUE=DATE:20220908
DTEND;VALUE=DATE:20220909
DTSTAMP:20260420T151510
CREATED:20220907T152114Z
LAST-MODIFIED:20220907T152114Z
UID:1957-1662595200-1662681599@prestonseniors.org
SUMMARY:Lunch Menu
DESCRIPTION:GRANDPARENT’S DAY LUNCHEON\nSALISBURY STEAK\nMASHED POTATOES & GRAVY\nGREEN BEANS\nFRUIT\nWHOLE WHEAT BREAD
URL:https://prestonseniors.org/event/lunch-menu-481/
CATEGORIES:Menu
END:VEVENT
BEGIN:VEVENT
DTSTART;VALUE=DATE:20220907
DTEND;VALUE=DATE:20220908
DTSTAMP:20260420T151510
CREATED:20220907T152931Z
LAST-MODIFIED:20220907T152931Z
UID:1985-1662508800-1662595199@prestonseniors.org
SUMMARY:Shopping Trips Kingwood Aurora
DESCRIPTION:Shopping Trips\nKingwood\nAurora
URL:https://prestonseniors.org/event/shopping-trips-kingwood-aurora-3/
CATEGORIES:Activities
END:VEVENT
BEGIN:VEVENT
DTSTART;VALUE=DATE:20220907
DTEND;VALUE=DATE:20220908
DTSTAMP:20260420T151510
CREATED:20220907T152024Z
LAST-MODIFIED:20220907T152024Z
UID:1952-1662508800-1662595199@prestonseniors.org
SUMMARY:Lunch Menu
DESCRIPTION:Second Serving\nat Kingwood Center Only
URL:https://prestonseniors.org/event/lunch-menu-480/2022-09-07/
CATEGORIES:Menu
END:VEVENT
BEGIN:VEVENT
DTSTART;VALUE=DATE:20220906
DTEND;VALUE=DATE:20220907
DTSTAMP:20260420T151510
CREATED:20220907T151938Z
LAST-MODIFIED:20220907T151938Z
UID:1950-1662422400-1662508799@prestonseniors.org
SUMMARY:Lunch Menu
DESCRIPTION:CHICKEN & NOODLES\nCARROTS\nFRUIT\nBISCUIT
URL:https://prestonseniors.org/event/lunch-menu-479/
CATEGORIES:Menu
END:VEVENT
BEGIN:VEVENT
DTSTART;VALUE=DATE:20220905
DTEND;VALUE=DATE:20220906
DTSTAMP:20260420T151510
CREATED:20220907T151903Z
LAST-MODIFIED:20220907T151903Z
UID:1948-1662336000-1662422399@prestonseniors.org
SUMMARY:Lunch Menu
DESCRIPTION:CLOSED FOR\nLABOR DAY
URL:https://prestonseniors.org/event/lunch-menu-478/
CATEGORIES:Menu
END:VEVENT
BEGIN:VEVENT
DTSTART;VALUE=DATE:20220902
DTEND;VALUE=DATE:20220903
DTSTAMP:20260420T151510
CREATED:20220907T151759Z
LAST-MODIFIED:20220907T151759Z
UID:1946-1662076800-1662163199@prestonseniors.org
SUMMARY:Lunch Menu
DESCRIPTION:SALMON PATTIES\nBUTTERED POTATOES\nSTEWED TOMATOES\nFRUIT\nWHOLE WHEAT BREAD
URL:https://prestonseniors.org/event/lunch-menu-477/
CATEGORIES:Menu
END:VEVENT
BEGIN:VEVENT
DTSTART;VALUE=DATE:20220901
DTEND;VALUE=DATE:20220902
DTSTAMP:20260420T151510
CREATED:20220907T151732Z
LAST-MODIFIED:20220907T151732Z
UID:1944-1661990400-1662076799@prestonseniors.org
SUMMARY:Lunch Menu
DESCRIPTION:HAM & CHEESE SANDWICH\nBROCCOLI CHEESE SOUP\nFRUIT
URL:https://prestonseniors.org/event/lunch-menu-476/
CATEGORIES:Menu
END:VEVENT
BEGIN:VEVENT
DTSTART;VALUE=DATE:20220729
DTEND;VALUE=DATE:20220730
DTSTAMP:20260420T151510
CREATED:20220708T144131Z
LAST-MODIFIED:20220708T144131Z
UID:1888-1659052800-1659139199@prestonseniors.org
SUMMARY:Live music by KATHY MATTEA
DESCRIPTION:
URL:https://prestonseniors.org/event/live-music-by-kathy-mattea/
CATEGORIES:Activities
END:VEVENT
BEGIN:VEVENT
DTSTART;VALUE=DATE:20220729
DTEND;VALUE=DATE:20220730
DTSTAMP:20260420T151510
CREATED:20220708T145451Z
LAST-MODIFIED:20220708T145451Z
UID:1934-1659052800-1659139199@prestonseniors.org
SUMMARY:Lunch Menu
DESCRIPTION:BBQ CHICKEN\nAU GRATIN POTATOES\nBROCCOLI / CAULIFLOWER\nFRUIT\nWHOLE WHEAT BREAD
URL:https://prestonseniors.org/event/lunch-menu-475/
CATEGORIES:Menu
END:VEVENT
BEGIN:VEVENT
DTSTART;VALUE=DATE:20220728
DTEND;VALUE=DATE:20220729
DTSTAMP:20260420T151510
CREATED:20220708T145428Z
LAST-MODIFIED:20220708T145428Z
UID:1932-1658966400-1659052799@prestonseniors.org
SUMMARY:Lunch Menu
DESCRIPTION:TACO SOUP\nTURKEY & CHEESE SANDWICH\nFRUIT\nNEWBURG
URL:https://prestonseniors.org/event/lunch-menu-474/
CATEGORIES:Menu
END:VEVENT
BEGIN:VEVENT
DTSTART;VALUE=DATE:20220727
DTEND;VALUE=DATE:20220728
DTSTAMP:20260420T151510
CREATED:20220708T144632Z
LAST-MODIFIED:20220708T144632Z
UID:1895-1658880000-1658966399@prestonseniors.org
SUMMARY:Shopping Trips Valley Tunnelton Terra Alta
DESCRIPTION:Shopping Trips\nValley\nTunnelton\nTerra Alta
URL:https://prestonseniors.org/event/shopping-trips-valley-tunnelton-terra-alta-2/
CATEGORIES:Activities
END:VEVENT
BEGIN:VEVENT
DTSTART;VALUE=DATE:20220726
DTEND;VALUE=DATE:20220727
DTSTAMP:20260420T151510
CREATED:20220708T145403Z
LAST-MODIFIED:20220708T145403Z
UID:1930-1658793600-1658879999@prestonseniors.org
SUMMARY:Lunch Menu
DESCRIPTION:PORK RIB PATTY SANDWICH\nBAKED BEANS\nPEAS\nFRUIT
URL:https://prestonseniors.org/event/lunch-menu-473/
CATEGORIES:Menu
END:VEVENT
BEGIN:VEVENT
DTSTART;VALUE=DATE:20220725
DTEND;VALUE=DATE:20220726
DTSTAMP:20260420T151510
CREATED:20220708T145339Z
LAST-MODIFIED:20220708T145339Z
UID:1928-1658707200-1658793599@prestonseniors.org
SUMMARY:Lunch Menu
DESCRIPTION:CREAMED CHICKEN\nOVER BISCUIT\nBROCCOLI\nFRUIT
URL:https://prestonseniors.org/event/lunch-menu-472/
CATEGORIES:Menu
END:VEVENT
BEGIN:VEVENT
DTSTART;VALUE=DATE:20220722
DTEND;VALUE=DATE:20220723
DTSTAMP:20260420T151510
CREATED:20220708T145317Z
LAST-MODIFIED:20220708T145317Z
UID:1926-1658448000-1658534399@prestonseniors.org
SUMMARY:Lunch Menu
DESCRIPTION:CHEF SALAD\nCRACKERS\nBAKED POTATO\nCOOKIE
URL:https://prestonseniors.org/event/lunch-menu-471/
CATEGORIES:Menu
END:VEVENT
BEGIN:VEVENT
DTSTART;VALUE=DATE:20220721
DTEND;VALUE=DATE:20220722
DTSTAMP:20260420T151510
CREATED:20220708T145255Z
LAST-MODIFIED:20220708T145255Z
UID:1924-1658361600-1658447999@prestonseniors.org
SUMMARY:Lunch Menu
DESCRIPTION:POLISH SAUSAGE W/\nPEPPERS & ONIONS ON BUN\nBUTTERED POTATOES\nFRUIT\nTERRA ALTA
URL:https://prestonseniors.org/event/lunch-menu-470/
CATEGORIES:Menu
END:VEVENT
BEGIN:VEVENT
DTSTART;VALUE=DATE:20220719
DTEND;VALUE=DATE:20220720
DTSTAMP:20260420T151510
CREATED:20220708T145219Z
LAST-MODIFIED:20220708T145219Z
UID:1922-1658188800-1658275199@prestonseniors.org
SUMMARY:Lunch Menu
DESCRIPTION:VEGETABLE SOUP\nPEPPERONI ROLL\nFRUIT\nKINGWOOD
URL:https://prestonseniors.org/event/lunch-menu-469/
CATEGORIES:Menu
END:VEVENT
BEGIN:VEVENT
DTSTART;VALUE=DATE:20220718
DTEND;VALUE=DATE:20220719
DTSTAMP:20260420T151510
CREATED:20220708T145155Z
LAST-MODIFIED:20220708T145155Z
UID:1920-1658102400-1658188799@prestonseniors.org
SUMMARY:Lunch Menu
DESCRIPTION:PORK CHOPS\nMASHED POTATOES\nCORN\nFRUIT\nWHOLE WHEAT BREAD
URL:https://prestonseniors.org/event/lunch-menu-468/
CATEGORIES:Menu
END:VEVENT
BEGIN:VEVENT
DTSTART;VALUE=DATE:20220715
DTEND;VALUE=DATE:20220716
DTSTAMP:20260420T151510
CREATED:20220708T145132Z
LAST-MODIFIED:20220708T145132Z
UID:1918-1657843200-1657929599@prestonseniors.org
SUMMARY:Lunch menu
DESCRIPTION:FISH\nSTEWED TOMATOES\nMIXED GREENS\nFRUIT\nWHOLE WHEAT BREAD
URL:https://prestonseniors.org/event/lunch-menu-467/
CATEGORIES:Menu
END:VEVENT
BEGIN:VEVENT
DTSTART;VALUE=DATE:20220714
DTEND;VALUE=DATE:20220715
DTSTAMP:20260420T151510
CREATED:20220708T145111Z
LAST-MODIFIED:20220708T145111Z
UID:1916-1657756800-1657843199@prestonseniors.org
SUMMARY:Lunch Menu
DESCRIPTION:CABBAGE ROLLS\nMASHED POTATOES\nMIXED VEGETABLES\nFRUIT\nWHOLE WHEAT BREAD\nUNION DISTRICT
URL:https://prestonseniors.org/event/lunch-menu-466/
CATEGORIES:Menu
END:VEVENT
BEGIN:VEVENT
DTSTART;VALUE=DATE:20220713
DTEND;VALUE=DATE:20220714
DTSTAMP:20260420T151510
CREATED:20220708T144549Z
LAST-MODIFIED:20220708T144549Z
UID:1893-1657670400-1657756799@prestonseniors.org
SUMMARY:Shopping Trips Newburg North Preston Rowlesburg
DESCRIPTION:Shopping Trips\nNewburg\nNorth Preston\nRowlesburg
URL:https://prestonseniors.org/event/shopping-trips-newburg-north-preston-rowlesburg-2/
CATEGORIES:Activities
END:VEVENT
BEGIN:VEVENT
DTSTART;VALUE=DATE:20220712
DTEND;VALUE=DATE:20220713
DTSTAMP:20260420T151510
CREATED:20220708T145040Z
LAST-MODIFIED:20220708T145040Z
UID:1914-1657584000-1657670399@prestonseniors.org
SUMMARY:Lunch Menu
DESCRIPTION:TACO SALAD\nBLACK BEANS\nTORTILLA CHIPS\nFRUIT\nTUNNELTON
URL:https://prestonseniors.org/event/lunch-menu-465/
CATEGORIES:Menu
END:VEVENT
BEGIN:VEVENT
DTSTART;VALUE=DATE:20220711
DTEND;VALUE=DATE:20220712
DTSTAMP:20260420T151510
CREATED:20220708T145013Z
LAST-MODIFIED:20220708T145013Z
UID:1912-1657497600-1657583999@prestonseniors.org
SUMMARY:Lunch menu
DESCRIPTION:HAM & CHEESE SANDWICH\nPOTATO SOUP\nFRUIT
URL:https://prestonseniors.org/event/lunch-menu-464/
CATEGORIES:Menu
END:VEVENT
END:VCALENDAR