BEGIN:VCALENDAR
VERSION:2.0
PRODID:-//Preston County Senior Citizens, Inc. - ECPv6.15.20//NONSGML v1.0//EN
CALSCALE:GREGORIAN
METHOD:PUBLISH
X-WR-CALNAME:Preston County Senior Citizens, Inc.
X-ORIGINAL-URL:https://prestonseniors.org
X-WR-CALDESC:Events for Preston County Senior Citizens, Inc.
REFRESH-INTERVAL;VALUE=DURATION:PT1H
X-Robots-Tag:noindex
X-PUBLISHED-TTL:PT1H
BEGIN:VTIMEZONE
TZID:UTC
BEGIN:STANDARD
TZOFFSETFROM:+0000
TZOFFSETTO:+0000
TZNAME:UTC
DTSTART:20210101T000000
END:STANDARD
END:VTIMEZONE
BEGIN:VEVENT
DTSTART;VALUE=DATE:20221121
DTEND;VALUE=DATE:20221122
DTSTAMP:20260420T010859
CREATED:20221107T190248Z
LAST-MODIFIED:20221107T190248Z
UID:2092-1668988800-1669075199@prestonseniors.org
SUMMARY:Lunch Menu
DESCRIPTION:SLOPPY JOE\nFRENCH FRIES\nCORN\nFRUIT
URL:https://prestonseniors.org/event/lunch-menu-525/
CATEGORIES:Menu
END:VEVENT
BEGIN:VEVENT
DTSTART;VALUE=DATE:20221118
DTEND;VALUE=DATE:20221119
DTSTAMP:20260420T010859
CREATED:20221107T190201Z
LAST-MODIFIED:20221107T190201Z
UID:2090-1668729600-1668815999@prestonseniors.org
SUMMARY:Lunch Menu
DESCRIPTION:CHICKEN TENDERS\nMACARONI & CHEESE\nMIXED VEGGIES\nWHOLE WHEAT BREAD\nFRUIT\nVALLEY DISTRICT
URL:https://prestonseniors.org/event/lunch-menu-524/
CATEGORIES:Menu
END:VEVENT
BEGIN:VEVENT
DTSTART;VALUE=DATE:20221117
DTEND;VALUE=DATE:20221118
DTSTAMP:20260420T010859
CREATED:20221107T190129Z
LAST-MODIFIED:20221107T190129Z
UID:2088-1668643200-1668729599@prestonseniors.org
SUMMARY:Lunch Menu
DESCRIPTION:BEANS\nSPINACH\nCORNBREAD\nFRUIT\nTERRA ALTA
URL:https://prestonseniors.org/event/lunch-menu-523/
CATEGORIES:Menu
END:VEVENT
BEGIN:VEVENT
DTSTART;VALUE=DATE:20221115
DTEND;VALUE=DATE:20221116
DTSTAMP:20260420T010859
CREATED:20221107T190059Z
LAST-MODIFIED:20221107T190059Z
UID:2086-1668470400-1668556799@prestonseniors.org
SUMMARY:Lunch Menu
DESCRIPTION:STUFFED PEPPER\nMASHED POTATOES\nBRUSSEL SPROUTS\nWHOLE WHEAT BREAD\nFRUIT\nKINGWOOD
URL:https://prestonseniors.org/event/lunch-menu-522/
CATEGORIES:Menu
END:VEVENT
BEGIN:VEVENT
DTSTART;VALUE=DATE:20221114
DTEND;VALUE=DATE:20221115
DTSTAMP:20260420T010859
CREATED:20221107T190013Z
LAST-MODIFIED:20221107T190013Z
UID:2084-1668384000-1668470399@prestonseniors.org
SUMMARY:Lunch Menu
DESCRIPTION:TUNA SALAD SANDWICH\nTOMATO SOUP\nCOTTAGE CHEESE\nFRUIT
URL:https://prestonseniors.org/event/lunch-menu-521/
CATEGORIES:Menu
END:VEVENT
BEGIN:VEVENT
DTSTART;VALUE=DATE:20221111
DTEND;VALUE=DATE:20221112
DTSTAMP:20260420T010859
CREATED:20221107T190831Z
LAST-MODIFIED:20221107T190831Z
UID:2106-1668124800-1668211199@prestonseniors.org
SUMMARY:Closed Veterans Day
DESCRIPTION:Closed Veterans Day
URL:https://prestonseniors.org/event/closed-veterans-day/
CATEGORIES:Activities
END:VEVENT
BEGIN:VEVENT
DTSTART;VALUE=DATE:20221111
DTEND;VALUE=DATE:20221112
DTSTAMP:20260420T010859
CREATED:20221107T185944Z
LAST-MODIFIED:20221107T185944Z
UID:2082-1668124800-1668211199@prestonseniors.org
SUMMARY:Lunch Menu
DESCRIPTION:Closed Veterans Day
URL:https://prestonseniors.org/event/lunch-menu-520/
CATEGORIES:Menu
END:VEVENT
BEGIN:VEVENT
DTSTART;VALUE=DATE:20221110
DTEND;VALUE=DATE:20221111
DTSTAMP:20260420T010859
CREATED:20221107T185914Z
LAST-MODIFIED:20221107T185914Z
UID:2080-1668038400-1668124799@prestonseniors.org
SUMMARY:Lunch Menu
DESCRIPTION:CABBAGE ROLLS\nMASHED POTATOES\nGREEN BEANS\nFRUIT\nWHOLE WHEAT BREAD\nUNION DISTRICT
URL:https://prestonseniors.org/event/lunch-menu-519/
CATEGORIES:Menu
END:VEVENT
BEGIN:VEVENT
DTSTART;VALUE=DATE:20221109
DTEND;VALUE=DATE:20221110
DTSTAMP:20260420T010859
CREATED:20221107T190901Z
LAST-MODIFIED:20221107T191208Z
UID:2108-1667952000-1668038399@prestonseniors.org
SUMMARY:Shopping Trips  Newburg North Preston  Rowlesburg
DESCRIPTION:Shopping Trips\nNewburg\nNorth Preston\nRowlesburg
URL:https://prestonseniors.org/event/shopping-trip/
CATEGORIES:Activities
END:VEVENT
BEGIN:VEVENT
DTSTART;VALUE=DATE:20221108
DTEND;VALUE=DATE:20221109
DTSTAMP:20260420T010859
CREATED:20221107T185836Z
LAST-MODIFIED:20221107T185836Z
UID:2078-1667865600-1667951999@prestonseniors.org
SUMMARY:Lunch Menu
DESCRIPTION:HAM\nAU GRATIN POTATOES\nCAULIFLOWER\nWHOLE WHEAT BREAD\nFRUIT\nTUNNELTON
URL:https://prestonseniors.org/event/lunch-menu-518/
CATEGORIES:Menu
END:VEVENT
BEGIN:VEVENT
DTSTART;VALUE=DATE:20221107
DTEND;VALUE=DATE:20221108
DTSTAMP:20260420T010859
CREATED:20221107T185759Z
LAST-MODIFIED:20221107T185759Z
UID:2076-1667779200-1667865599@prestonseniors.org
SUMMARY:Lunch Menu
DESCRIPTION:TACO SOUP W/ CHEESE\nCRACKERS\nBLACK BEANS\nFRUIT
URL:https://prestonseniors.org/event/lunch-menu-517/
CATEGORIES:Menu
END:VEVENT
BEGIN:VEVENT
DTSTART;VALUE=DATE:20221104
DTEND;VALUE=DATE:20221105
DTSTAMP:20260420T010859
CREATED:20221107T185344Z
LAST-MODIFIED:20221107T185344Z
UID:2074-1667520000-1667606399@prestonseniors.org
SUMMARY:Lunch Menu
DESCRIPTION:SALISBURY STEAK\nMASHED POTATOES\nCORN\nWHOLE WHEAT BREAD\nFRUIT
URL:https://prestonseniors.org/event/lunch-menu-516/
CATEGORIES:Menu
END:VEVENT
BEGIN:VEVENT
DTSTART;VALUE=DATE:20221103
DTEND;VALUE=DATE:20221104
DTSTAMP:20260420T010859
CREATED:20221107T185314Z
LAST-MODIFIED:20221107T185314Z
UID:2072-1667433600-1667519999@prestonseniors.org
SUMMARY:Lunch Menu
DESCRIPTION:SPAGHETTI W/ MEAT SAUCE\nTOSSED SALAD\nITALIAN BREAD\nFRUIT\nROWLESBURG
URL:https://prestonseniors.org/event/lunch-menu-515/
CATEGORIES:Menu
END:VEVENT
BEGIN:VEVENT
DTSTART;VALUE=DATE:20221102
DTEND;VALUE=DATE:20221103
DTSTAMP:20260420T010859
CREATED:20221107T190802Z
LAST-MODIFIED:20221107T191146Z
UID:2104-1667347200-1667433599@prestonseniors.org
SUMMARY:Shopping Trips  Kingwood  Aurora
DESCRIPTION:Shopping Trips\nKingwood\nAurora
URL:https://prestonseniors.org/event/shopping-trips-4/
CATEGORIES:Activities
END:VEVENT
BEGIN:VEVENT
DTSTART;VALUE=DATE:20221102
DTEND;VALUE=DATE:20221103
DTSTAMP:20260420T010859
CREATED:20221107T185134Z
LAST-MODIFIED:20221107T185134Z
UID:2064-1667347200-1667433599@prestonseniors.org
SUMMARY:Lunch Menu
DESCRIPTION:Second Serving\nat Kingwood Center Only
URL:https://prestonseniors.org/event/lunch-menu-513/2022-11-02/
CATEGORIES:Menu
END:VEVENT
BEGIN:VEVENT
DTSTART;VALUE=DATE:20221101
DTEND;VALUE=DATE:20221102
DTSTAMP:20260420T010859
CREATED:20221107T185209Z
LAST-MODIFIED:20221107T185209Z
UID:2070-1667260800-1667347199@prestonseniors.org
SUMMARY:Lunch Menu
DESCRIPTION:HAM & CHEESE SANDWICH\nPOTATO SOUP\nFRUIT\nNORTH PRESTON
URL:https://prestonseniors.org/event/lunch-menu-514/
CATEGORIES:Menu
END:VEVENT
BEGIN:VEVENT
DTSTART;VALUE=DATE:20221031
DTEND;VALUE=DATE:20221101
DTSTAMP:20260420T010859
CREATED:20221003T172151Z
LAST-MODIFIED:20221003T172151Z
UID:2050-1667174400-1667260799@prestonseniors.org
SUMMARY:Lunch Menu
DESCRIPTION:FISH SANDWICH\nSPINACH\nSTEWED TOMATOES\nFRUIT
URL:https://prestonseniors.org/event/lunch-menu-512/
CATEGORIES:Menu
END:VEVENT
BEGIN:VEVENT
DTSTART;VALUE=DATE:20221028
DTEND;VALUE=DATE:20221029
DTSTAMP:20260420T010859
CREATED:20221003T172114Z
LAST-MODIFIED:20221003T172114Z
UID:2048-1666915200-1667001599@prestonseniors.org
SUMMARY:Lunch Menu
DESCRIPTION:SLOPPY JOE\nBAKED BEANS\nBRUSSEL SPROUTS\nFRUIT
URL:https://prestonseniors.org/event/lunch-menu-511/
CATEGORIES:Menu
END:VEVENT
BEGIN:VEVENT
DTSTART;VALUE=DATE:20221027
DTEND;VALUE=DATE:20221028
DTSTAMP:20260420T010859
CREATED:20221003T172044Z
LAST-MODIFIED:20221003T172044Z
UID:2046-1666828800-1666915199@prestonseniors.org
SUMMARY:Lunch Menu
DESCRIPTION:CHICKEN PARMESAN\nOVER SPAGHETTI\nBROCCOLI\nFRUIT\nROLL\nNEWBURG
URL:https://prestonseniors.org/event/lunch-menu-510/
CATEGORIES:Menu
END:VEVENT
BEGIN:VEVENT
DTSTART;VALUE=DATE:20221026
DTEND;VALUE=DATE:20221027
DTSTAMP:20260420T010859
CREATED:20221003T172407Z
LAST-MODIFIED:20221003T172407Z
UID:2056-1666742400-1666828799@prestonseniors.org
SUMMARY:Shopping Trips Valley Tunnelton Terra Alta
DESCRIPTION:Shopping Trips\nValley\nTunnelton\nTerra Alta
URL:https://prestonseniors.org/event/shopping-trips-valley-tunnelton-terra-alta-4/
CATEGORIES:Activities
END:VEVENT
BEGIN:VEVENT
DTSTART;VALUE=DATE:20221025
DTEND;VALUE=DATE:20221026
DTSTAMP:20260420T010859
CREATED:20221003T171958Z
LAST-MODIFIED:20221003T171958Z
UID:2044-1666656000-1666742399@prestonseniors.org
SUMMARY:Lunch Menu
DESCRIPTION:POLISH SAUSAGE\nSAUERKRAUT\nMASHED POTATOES\nCORN\nFRUIT\nWHOLE WHEAT BREAD
URL:https://prestonseniors.org/event/lunch-menu-509/
CATEGORIES:Menu
END:VEVENT
BEGIN:VEVENT
DTSTART;VALUE=DATE:20221024
DTEND;VALUE=DATE:20221025
DTSTAMP:20260420T010859
CREATED:20221003T171927Z
LAST-MODIFIED:20221003T171927Z
UID:2042-1666569600-1666655999@prestonseniors.org
SUMMARY:Lunch Menu
DESCRIPTION:BEANS\nSPINACH\nBUTTERED POTATOES\nBISCUIT\nFRUIT
URL:https://prestonseniors.org/event/lunch-menu-508/
CATEGORIES:Menu
END:VEVENT
BEGIN:VEVENT
DTSTART;VALUE=DATE:20221021
DTEND;VALUE=DATE:20221022
DTSTAMP:20260420T010859
CREATED:20221003T171852Z
LAST-MODIFIED:20221003T171852Z
UID:2040-1666310400-1666396799@prestonseniors.org
SUMMARY:Lunch Menu
DESCRIPTION:CHEESEBURGER\nMACARONI\nGREEN BEANS\nCARROTS\nFRUIT\nWHOLE WHEAT BREAD\nVALLEY DISTRICT
URL:https://prestonseniors.org/event/lunch-menu-507/
CATEGORIES:Menu
END:VEVENT
BEGIN:VEVENT
DTSTART;VALUE=DATE:20221020
DTEND;VALUE=DATE:20221021
DTSTAMP:20260420T010859
CREATED:20221003T171816Z
LAST-MODIFIED:20221003T171816Z
UID:2038-1666224000-1666310399@prestonseniors.org
SUMMARY:Lunch Menu
DESCRIPTION:SWEDISH MEATBALL W/ NOODLES\nMIXED VEGETABLES\nBEETS\nBISCUIT\nFRUIT\nTERRA ALTA
URL:https://prestonseniors.org/event/lunch-menu-506/
CATEGORIES:Menu
END:VEVENT
BEGIN:VEVENT
DTSTART;VALUE=DATE:20221018
DTEND;VALUE=DATE:20221019
DTSTAMP:20260420T010859
CREATED:20221003T171743Z
LAST-MODIFIED:20221003T171743Z
UID:2036-1666051200-1666137599@prestonseniors.org
SUMMARY:Lunch Menu
DESCRIPTION:MEATLOAF\nMASHED POTATOES W/ GRAVY\nCORN\nFRUIT\nWHOLE WHEAT BREAD\nKINGWOOD
URL:https://prestonseniors.org/event/lunch-menu-505/
CATEGORIES:Menu
END:VEVENT
BEGIN:VEVENT
DTSTART;VALUE=DATE:20221017
DTEND;VALUE=DATE:20221018
DTSTAMP:20260420T010859
CREATED:20221003T171713Z
LAST-MODIFIED:20221003T171713Z
UID:2034-1665964800-1666051199@prestonseniors.org
SUMMARY:Lunch Menu
DESCRIPTION:PULLED PORK SANDWICH\nBAKED BEANS\nCOLESLAW\nFRUIT
URL:https://prestonseniors.org/event/lunch-menu-504/
CATEGORIES:Menu
END:VEVENT
BEGIN:VEVENT
DTSTART;VALUE=DATE:20221014
DTEND;VALUE=DATE:20221015
DTSTAMP:20260420T010859
CREATED:20221003T171644Z
LAST-MODIFIED:20221003T171644Z
UID:2032-1665705600-1665791999@prestonseniors.org
SUMMARY:Lunch Menu
DESCRIPTION:BBQ CHICKEN\nRICE\nCALIFORNIA BLEND VEGGIES\nFRUIT\nWHOLE WHEAT BREAD
URL:https://prestonseniors.org/event/lunch-menu-503/
CATEGORIES:Menu
END:VEVENT
BEGIN:VEVENT
DTSTART;VALUE=DATE:20221013
DTEND;VALUE=DATE:20221014
DTSTAMP:20260420T010859
CREATED:20221003T171614Z
LAST-MODIFIED:20221003T171614Z
UID:2030-1665619200-1665705599@prestonseniors.org
SUMMARY:Lunch Menu
DESCRIPTION:CORN DOGS\nFRENCH FRIES\nBAKED BEANS\nFRUIT\nUNION DISTRICT
URL:https://prestonseniors.org/event/lunch-menu-502/
CATEGORIES:Menu
END:VEVENT
BEGIN:VEVENT
DTSTART;VALUE=DATE:20221012
DTEND;VALUE=DATE:20221013
DTSTAMP:20260420T010859
CREATED:20221003T172337Z
LAST-MODIFIED:20221003T172337Z
UID:2054-1665532800-1665619199@prestonseniors.org
SUMMARY:Shopping Trips Newburg North Preston Rowlesburg
DESCRIPTION:Shopping Trips\nNewburg\nNorth Preston\nRowlesburg
URL:https://prestonseniors.org/event/shopping-trips-newburg-north-preston-rowlesburg-4/
CATEGORIES:Activities
END:VEVENT
BEGIN:VEVENT
DTSTART;VALUE=DATE:20221011
DTEND;VALUE=DATE:20221012
DTSTAMP:20260420T010859
CREATED:20221003T171535Z
LAST-MODIFIED:20221003T171535Z
UID:2028-1665446400-1665532799@prestonseniors.org
SUMMARY:Lunch Menu
DESCRIPTION:STUFFED PEPPER SOUP\nHAM\, TURKEY\, & CHEESE SANDWICH\nFRUIT\nTUNNELTON
URL:https://prestonseniors.org/event/lunch-menu-501/
CATEGORIES:Menu
END:VEVENT
END:VCALENDAR