BEGIN:VCALENDAR
VERSION:2.0
PRODID:-//Preston County Senior Citizens, Inc. - ECPv6.15.20//NONSGML v1.0//EN
CALSCALE:GREGORIAN
METHOD:PUBLISH
X-WR-CALNAME:Preston County Senior Citizens, Inc.
X-ORIGINAL-URL:https://prestonseniors.org
X-WR-CALDESC:Events for Preston County Senior Citizens, Inc.
REFRESH-INTERVAL;VALUE=DURATION:PT1H
X-Robots-Tag:noindex
X-PUBLISHED-TTL:PT1H
BEGIN:VTIMEZONE
TZID:UTC
BEGIN:STANDARD
TZOFFSETFROM:+0000
TZOFFSETTO:+0000
TZNAME:UTC
DTSTART:20210101T000000
END:STANDARD
END:VTIMEZONE
BEGIN:VEVENT
DTSTART;VALUE=DATE:20220420
DTEND;VALUE=DATE:20220421
DTSTAMP:20260421T201714
CREATED:20220412T155338Z
LAST-MODIFIED:20220412T155338Z
UID:1736-1650412800-1650499199@prestonseniors.org
SUMMARY:PRESTON COUNTY DIABETES EDUCATION & SUPPORT GROUP
DESCRIPTION:
URL:https://prestonseniors.org/event/preston-county-diabetes-education-support-group/2022-04-20/
CATEGORIES:Activities
END:VEVENT
END:VCALENDAR