BEGIN:VCALENDAR
VERSION:2.0
PRODID:-//Preston County Senior Citizens, Inc. - ECPv6.15.20//NONSGML v1.0//EN
CALSCALE:GREGORIAN
METHOD:PUBLISH
X-WR-CALNAME:Preston County Senior Citizens, Inc.
X-ORIGINAL-URL:https://prestonseniors.org
X-WR-CALDESC:Events for Preston County Senior Citizens, Inc.
REFRESH-INTERVAL;VALUE=DURATION:PT1H
X-Robots-Tag:noindex
X-PUBLISHED-TTL:PT1H
BEGIN:VTIMEZONE
TZID:UTC
BEGIN:STANDARD
TZOFFSETFROM:+0000
TZOFFSETTO:+0000
TZNAME:UTC
DTSTART:20210101T000000
END:STANDARD
END:VTIMEZONE
BEGIN:VEVENT
DTSTART;TZID=UTC:20220419T100000
DTEND;TZID=UTC:20220419T110000
DTSTAMP:20260421T201740
CREATED:20220412T154714Z
LAST-MODIFIED:20220412T154714Z
UID:1711-1650362400-1650366000@prestonseniors.org
SUMMARY:BINGOCIZE Kingwood Senior Center
DESCRIPTION:
URL:https://prestonseniors.org/event/bingocize-kingwood-senior-center/2022-04-19/
CATEGORIES:Activities
END:VEVENT
END:VCALENDAR